BEGIN:VCALENDAR
VERSION:2.0
PRODID:-//North Battleford Public Library - ECPv6.15.20//NONSGML v1.0//EN
CALSCALE:GREGORIAN
METHOD:PUBLISH
X-WR-CALNAME:North Battleford Public Library
X-ORIGINAL-URL:https://northbattlefordlibrary.com
X-WR-CALDESC:Events for North Battleford Public Library
REFRESH-INTERVAL;VALUE=DURATION:PT1H
X-Robots-Tag:noindex
X-PUBLISHED-TTL:PT1H
BEGIN:VTIMEZONE
TZID:America/Regina
BEGIN:STANDARD
TZOFFSETFROM:-0600
TZOFFSETTO:-0600
TZNAME:CST
DTSTART:20250101T000000
END:STANDARD
END:VTIMEZONE
BEGIN:VEVENT
DTSTART;TZID=America/Regina:20260304T183000
DTEND;TZID=America/Regina:20260304T200000
DTSTAMP:20260420T041216
CREATED:20260408T010527Z
LAST-MODIFIED:20260408T010527Z
UID:6929-1772649000-1772654400@northbattlefordlibrary.com
SUMMARY:Healing After Harm (Men)
DESCRIPTION:
URL:https://northbattlefordlibrary.com/event/healing-after-harm-men-4/
LOCATION:North Battleford Library\, 1392 101st Street\, North Battleford\, Saskatchewan\, S9A 1A2\, Canada
CATEGORIES:Men
END:VEVENT
BEGIN:VEVENT
DTSTART;TZID=America/Regina:20260305T180000
DTEND;TZID=America/Regina:20260305T200000
DTSTAMP:20260420T041216
CREATED:20260408T010854Z
LAST-MODIFIED:20260408T010854Z
UID:6934-1772733600-1772740800@northbattlefordlibrary.com
SUMMARY:Dungeons & Dragons
DESCRIPTION:
URL:https://northbattlefordlibrary.com/event/dungeons-dragons-56/
LOCATION:North Battleford Library\, 1392 101st Street\, North Battleford\, Saskatchewan\, S9A 1A2\, Canada
CATEGORIES:Adult
END:VEVENT
BEGIN:VEVENT
DTSTART;TZID=America/Regina:20260310T183000
DTEND;TZID=America/Regina:20260310T200000
DTSTAMP:20260420T041216
CREATED:20260408T004730Z
LAST-MODIFIED:20260408T004730Z
UID:6908-1773167400-1773172800@northbattlefordlibrary.com
SUMMARY:Healing After Harm (Women)
DESCRIPTION:
URL:https://northbattlefordlibrary.com/event/healing-after-harm-women-6/
LOCATION:North Battleford Library\, 1392 101st Street\, North Battleford\, Saskatchewan\, S9A 1A2\, Canada
CATEGORIES:Women
END:VEVENT
BEGIN:VEVENT
DTSTART;TZID=America/Regina:20260312T180000
DTEND;TZID=America/Regina:20260312T200000
DTSTAMP:20260420T041216
CREATED:20260408T010935Z
LAST-MODIFIED:20260408T010935Z
UID:6936-1773338400-1773345600@northbattlefordlibrary.com
SUMMARY:Dungeons & Dragons
DESCRIPTION:
URL:https://northbattlefordlibrary.com/event/dungeons-dragons-57/
LOCATION:North Battleford Library\, 1392 101st Street\, North Battleford\, Saskatchewan\, S9A 1A2\, Canada
CATEGORIES:Adult
END:VEVENT
BEGIN:VEVENT
DTSTART;TZID=America/Regina:20260316T100000
DTEND;TZID=America/Regina:20260316T160000
DTSTAMP:20260420T041216
CREATED:20260408T004125Z
LAST-MODIFIED:20260408T004125Z
UID:6899-1773655200-1773676800@northbattlefordlibrary.com
SUMMARY:Rapid Access Counseling
DESCRIPTION:
URL:https://northbattlefordlibrary.com/event/rapid-access-counseling-15/
LOCATION:North Battleford Library\, 1392 101st Street\, North Battleford\, Saskatchewan\, S9A 1A2\, Canada
CATEGORIES:Adult
END:VEVENT
BEGIN:VEVENT
DTSTART;TZID=America/Regina:20260317T183000
DTEND;TZID=America/Regina:20260317T200000
DTSTAMP:20260420T041216
CREATED:20260408T004820Z
LAST-MODIFIED:20260408T004820Z
UID:6910-1773772200-1773777600@northbattlefordlibrary.com
SUMMARY:Healing After Harm (Women)
DESCRIPTION:
URL:https://northbattlefordlibrary.com/event/healing-after-harm-women-7/
LOCATION:North Battleford Library\, 1392 101st Street\, North Battleford\, Saskatchewan\, S9A 1A2\, Canada
CATEGORIES:Women
END:VEVENT
BEGIN:VEVENT
DTSTART;TZID=America/Regina:20260318T183000
DTEND;TZID=America/Regina:20260318T200000
DTSTAMP:20260420T041216
CREATED:20260408T010620Z
LAST-MODIFIED:20260408T010620Z
UID:6932-1773858600-1773864000@northbattlefordlibrary.com
SUMMARY:Healing After Harm (Men)
DESCRIPTION:
URL:https://northbattlefordlibrary.com/event/healing-after-harm-men-5/
LOCATION:North Battleford Library\, 1392 101st Street\, North Battleford\, Saskatchewan\, S9A 1A2\, Canada
CATEGORIES:Men
END:VEVENT
BEGIN:VEVENT
DTSTART;TZID=America/Regina:20260319T100000
DTEND;TZID=America/Regina:20260319T150000
DTSTAMP:20260420T041216
CREATED:20260408T011349Z
LAST-MODIFIED:20260408T011349Z
UID:6942-1773914400-1773932400@northbattlefordlibrary.com
SUMMARY:Free Income Tax Clinic
DESCRIPTION:Foundations Learning offers free\, year-round income tax support for low income individuals and families in Saskatchewan. \nThis is a drop-in clinic. \nTo find out more\, please call 306-652-5448\nor email incometax@FoundationsLearning.com
URL:https://northbattlefordlibrary.com/event/free-income-tax-clinic-2/
LOCATION:North Battleford Library\, 1392 101st Street\, North Battleford\, Saskatchewan\, S9A 1A2\, Canada
CATEGORIES:Adult
END:VEVENT
BEGIN:VEVENT
DTSTART;TZID=America/Regina:20260319T180000
DTEND;TZID=America/Regina:20260319T200000
DTSTAMP:20260420T041216
CREATED:20260408T011015Z
LAST-MODIFIED:20260408T011015Z
UID:6938-1773943200-1773950400@northbattlefordlibrary.com
SUMMARY:Dungeons & Dragons
DESCRIPTION:
URL:https://northbattlefordlibrary.com/event/dungeons-dragons-58/
LOCATION:North Battleford Library\, 1392 101st Street\, North Battleford\, Saskatchewan\, S9A 1A2\, Canada
CATEGORIES:Adult
END:VEVENT
BEGIN:VEVENT
DTSTART;TZID=America/Regina:20260321T100000
DTEND;TZID=America/Regina:20260321T150000
DTSTAMP:20260420T041216
CREATED:20260408T012120Z
LAST-MODIFIED:20260408T012120Z
UID:6955-1774087200-1774105200@northbattlefordlibrary.com
SUMMARY:Repair Cafe
DESCRIPTION:
URL:https://northbattlefordlibrary.com/event/repair-cafe-2/
LOCATION:North Battleford Library\, 1392 101st Street\, North Battleford\, Saskatchewan\, S9A 1A2\, Canada
CATEGORIES:Adult,family,Senior
END:VEVENT
BEGIN:VEVENT
DTSTART;TZID=America/Regina:20260324T183000
DTEND;TZID=America/Regina:20260324T200000
DTSTAMP:20260420T041216
CREATED:20260408T004908Z
LAST-MODIFIED:20260408T004908Z
UID:6912-1774377000-1774382400@northbattlefordlibrary.com
SUMMARY:Healing After Harm (Women)
DESCRIPTION:
URL:https://northbattlefordlibrary.com/event/healing-after-harm-women-8/
LOCATION:North Battleford Library\, 1392 101st Street\, North Battleford\, Saskatchewan\, S9A 1A2\, Canada
CATEGORIES:Women
END:VEVENT
BEGIN:VEVENT
DTSTART;TZID=America/Regina:20260326T180000
DTEND;TZID=America/Regina:20260326T200000
DTSTAMP:20260420T041216
CREATED:20260408T011054Z
LAST-MODIFIED:20260408T011054Z
UID:6940-1774548000-1774555200@northbattlefordlibrary.com
SUMMARY:Dungeons & Dragons
DESCRIPTION:
URL:https://northbattlefordlibrary.com/event/dungeons-dragons-59/
LOCATION:North Battleford Library\, 1392 101st Street\, North Battleford\, Saskatchewan\, S9A 1A2\, Canada
CATEGORIES:Adult
END:VEVENT
BEGIN:VEVENT
DTSTART;TZID=America/Regina:20260330T100000
DTEND;TZID=America/Regina:20260330T160000
DTSTAMP:20260420T041216
CREATED:20260408T004202Z
LAST-MODIFIED:20260408T004202Z
UID:6901-1774864800-1774886400@northbattlefordlibrary.com
SUMMARY:Rapid Access Counseling
DESCRIPTION:
URL:https://northbattlefordlibrary.com/event/rapid-access-counseling-16/
LOCATION:North Battleford Library\, 1392 101st Street\, North Battleford\, Saskatchewan\, S9A 1A2\, Canada
CATEGORIES:Adult
END:VEVENT
BEGIN:VEVENT
DTSTART;TZID=America/Regina:20260331T183000
DTEND;TZID=America/Regina:20260331T200000
DTSTAMP:20260420T041216
CREATED:20260408T005005Z
LAST-MODIFIED:20260408T005005Z
UID:6914-1774981800-1774987200@northbattlefordlibrary.com
SUMMARY:Healing After Harm (Women)
DESCRIPTION:
URL:https://northbattlefordlibrary.com/event/healing-after-harm-women-9/
LOCATION:North Battleford Library\, 1392 101st Street\, North Battleford\, Saskatchewan\, S9A 1A2\, Canada
CATEGORIES:Women
END:VEVENT
BEGIN:VEVENT
DTSTART;TZID=America/Regina:20260401T133000
DTEND;TZID=America/Regina:20260401T153000
DTSTAMP:20260420T041216
CREATED:20260407T224037Z
LAST-MODIFIED:20260408T010019Z
UID:6823-1775050200-1775057400@northbattlefordlibrary.com
SUMMARY:Adult Matinee - "Anna Karenina"
DESCRIPTION:
URL:https://northbattlefordlibrary.com/event/adult-matinee-anna-karenina/
LOCATION:North Battleford Library\, 1392 101st Street\, North Battleford\, Saskatchewan\, S9A 1A2\, Canada
CATEGORIES:Adult,Film,Senior
END:VEVENT
BEGIN:VEVENT
DTSTART;TZID=America/Regina:20260401T183000
DTEND;TZID=America/Regina:20260401T200000
DTSTAMP:20260420T041216
CREATED:20260407T224743Z
LAST-MODIFIED:20260408T003336Z
UID:6825-1775068200-1775073600@northbattlefordlibrary.com
SUMMARY:Healing after Harm (Men)
DESCRIPTION:Healing After Harm is an adult domestic violence support group for individuals impacted by abuse in intimate relationships.\nThis group offers a safe\, confidential space to share\, connect\, and begin healing at your own pace. \nJoin us as a drop-in or register ahead of time. \nContact information:\nRobin\ncommunity.connector@aatcs.ca\nBrynn\ncounsellor@aatcs.ca \n306-445-0055
URL:https://northbattlefordlibrary.com/event/healing-after-harm-men/
LOCATION:North Battleford Library\, 1392 101st Street\, North Battleford\, Saskatchewan\, S9A 1A2\, Canada
CATEGORIES:Men
END:VEVENT
BEGIN:VEVENT
DTSTART;TZID=America/Regina:20260402T180000
DTEND;TZID=America/Regina:20260402T200000
DTSTAMP:20260420T041216
CREATED:20260407T230446Z
LAST-MODIFIED:20260407T230446Z
UID:6839-1775152800-1775160000@northbattlefordlibrary.com
SUMMARY:Dungeons & Dragons
DESCRIPTION:
URL:https://northbattlefordlibrary.com/event/dungeons-dragons-51/
LOCATION:North Battleford Library\, 1392 101st Street\, North Battleford\, Saskatchewan\, S9A 1A2\, Canada
CATEGORIES:Adult
END:VEVENT
BEGIN:VEVENT
DTSTART;TZID=America/Regina:20260407T183000
DTEND;TZID=America/Regina:20260407T200000
DTSTAMP:20260420T041216
CREATED:20260407T225516Z
LAST-MODIFIED:20260408T003443Z
UID:6831-1775586600-1775592000@northbattlefordlibrary.com
SUMMARY:Healing after Harm (Women)
DESCRIPTION:Healing After Harm is an adult domestic violence support group for individuals impacted by abuse in intimate relationships.\nThis group offers a safe\, confidential space to share\, connect\, and begin healing at your own pace. \nJoin us as a drop-in or register ahead of time. \nContact information:\nRobin\ncommunity.connector@aatcs.ca\nBrynn\ncounsellor@aatcs.ca \n306-445-0055
URL:https://northbattlefordlibrary.com/event/healing-after-harm-women/
LOCATION:North Battleford Library\, 1392 101st Street\, North Battleford\, Saskatchewan\, S9A 1A2\, Canada
CATEGORIES:Women
END:VEVENT
BEGIN:VEVENT
DTSTART;TZID=America/Regina:20260409T180000
DTEND;TZID=America/Regina:20260409T200000
DTSTAMP:20260420T041216
CREATED:20260407T230544Z
LAST-MODIFIED:20260407T230544Z
UID:6841-1775757600-1775764800@northbattlefordlibrary.com
SUMMARY:Dungeons & Dragons
DESCRIPTION:
URL:https://northbattlefordlibrary.com/event/dungeons-dragons-52/
LOCATION:North Battleford Library\, 1392 101st Street\, North Battleford\, Saskatchewan\, S9A 1A2\, Canada
CATEGORIES:Adult
END:VEVENT
BEGIN:VEVENT
DTSTART;TZID=America/Regina:20260413T100000
DTEND;TZID=America/Regina:20260413T160000
DTSTAMP:20260420T041216
CREATED:20260408T002740Z
LAST-MODIFIED:20260408T002740Z
UID:6886-1776074400-1776096000@northbattlefordlibrary.com
SUMMARY:Rapid Access Counseling
DESCRIPTION:
URL:https://northbattlefordlibrary.com/event/rapid-access-counseling-12/
LOCATION:North Battleford Library\, 1392 101st Street\, North Battleford\, Saskatchewan\, S9A 1A2\, Canada
CATEGORIES:Adult
END:VEVENT
BEGIN:VEVENT
DTSTART;TZID=America/Regina:20260414T183000
DTEND;TZID=America/Regina:20260414T200000
DTSTAMP:20260420T041216
CREATED:20260407T225823Z
LAST-MODIFIED:20260408T003646Z
UID:6833-1776191400-1776196800@northbattlefordlibrary.com
SUMMARY:Healing after Harm (Women)
DESCRIPTION:Healing After Harm is an adult domestic violence support group for individuals impacted by abuse in intimate relationships.\nThis group offers a safe\, confidential space to share\, connect\, and begin healing at your own pace. \nJoin us as a drop-in or register ahead of time. \nContact information:\nRobin\ncommunity.connector@aatcs.ca\nBrynn\ncounsellor@aatcs.ca \n306-445-0055
URL:https://northbattlefordlibrary.com/event/healing-after-harm-women-2/
LOCATION:North Battleford Library\, 1392 101st Street\, North Battleford\, Saskatchewan\, S9A 1A2\, Canada
CATEGORIES:Women
END:VEVENT
BEGIN:VEVENT
DTSTART;TZID=America/Regina:20260415T183000
DTEND;TZID=America/Regina:20260415T200000
DTSTAMP:20260420T041216
CREATED:20260407T224908Z
LAST-MODIFIED:20260408T003525Z
UID:6827-1776277800-1776283200@northbattlefordlibrary.com
SUMMARY:Healing after Harm (Men)
DESCRIPTION:Healing After Harm is an adult domestic violence support group for individuals impacted by abuse in intimate relationships.\nThis group offers a safe\, confidential space to share\, connect\, and begin healing at your own pace. \nJoin us as a drop-in or register ahead of time. \nContact information:\nRobin\ncommunity.connector@aatcs.ca\nBrynn\ncounsellor@aatcs.ca \n306-445-0055
URL:https://northbattlefordlibrary.com/event/healing-after-harm-men-2/
LOCATION:North Battleford Library\, 1392 101st Street\, North Battleford\, Saskatchewan\, S9A 1A2\, Canada
CATEGORIES:Men
END:VEVENT
BEGIN:VEVENT
DTSTART;TZID=America/Regina:20260416T180000
DTEND;TZID=America/Regina:20260416T200000
DTSTAMP:20260420T041216
CREATED:20260407T230628Z
LAST-MODIFIED:20260407T230628Z
UID:6843-1776362400-1776369600@northbattlefordlibrary.com
SUMMARY:Dungeons & Dragons
DESCRIPTION:
URL:https://northbattlefordlibrary.com/event/dungeons-dragons-53/
LOCATION:North Battleford Library\, 1392 101st Street\, North Battleford\, Saskatchewan\, S9A 1A2\, Canada
CATEGORIES:Adult
END:VEVENT
BEGIN:VEVENT
DTSTART;TZID=America/Regina:20260418T100000
DTEND;TZID=America/Regina:20260418T150000
DTSTAMP:20260420T041216
CREATED:20260408T000936Z
LAST-MODIFIED:20260408T001102Z
UID:6874-1776506400-1776524400@northbattlefordlibrary.com
SUMMARY:Free Income Tax Clinic
DESCRIPTION:Foundations Learning offers free\, year-round income tax support for low income individuals and families in Saskatchewan. \nThis is a drop-in clinic. \nTo find out more\, please call 306-652-5448\nor email incometax@FoundationsLearning.com
URL:https://northbattlefordlibrary.com/event/free-income-tax-clinic/
LOCATION:North Battleford Library\, 1392 101st Street\, North Battleford\, Saskatchewan\, S9A 1A2\, Canada
CATEGORIES:Adult
END:VEVENT
BEGIN:VEVENT
DTSTART;TZID=America/Regina:20260421T183000
DTEND;TZID=America/Regina:20260421T200000
DTSTAMP:20260420T041216
CREATED:20260407T225911Z
LAST-MODIFIED:20260408T003715Z
UID:6835-1776796200-1776801600@northbattlefordlibrary.com
SUMMARY:Healing after Harm (Women)
DESCRIPTION:Healing After Harm is an adult domestic violence support group for individuals impacted by abuse in intimate relationships.\nThis group offers a safe\, confidential space to share\, connect\, and begin healing at your own pace. \nJoin us as a drop-in or register ahead of time. \nContact information:\nRobin\ncommunity.connector@aatcs.ca\nBrynn\ncounsellor@aatcs.ca \n306-445-0055
URL:https://northbattlefordlibrary.com/event/healing-after-harm-women-3/
LOCATION:North Battleford Library\, 1392 101st Street\, North Battleford\, Saskatchewan\, S9A 1A2\, Canada
CATEGORIES:Women
END:VEVENT
BEGIN:VEVENT
DTSTART;TZID=America/Regina:20260423T180000
DTEND;TZID=America/Regina:20260423T200000
DTSTAMP:20260420T041216
CREATED:20260407T230721Z
LAST-MODIFIED:20260407T230721Z
UID:6845-1776967200-1776974400@northbattlefordlibrary.com
SUMMARY:Dungeons & Dragons
DESCRIPTION:
URL:https://northbattlefordlibrary.com/event/dungeons-dragons-54/
LOCATION:North Battleford Library\, 1392 101st Street\, North Battleford\, Saskatchewan\, S9A 1A2\, Canada
CATEGORIES:Adult
END:VEVENT
BEGIN:VEVENT
DTSTART;TZID=America/Regina:20260427T100000
DTEND;TZID=America/Regina:20260427T160000
DTSTAMP:20260420T041216
CREATED:20260408T002827Z
LAST-MODIFIED:20260408T002827Z
UID:6888-1777284000-1777305600@northbattlefordlibrary.com
SUMMARY:Rapid Access Counseling
DESCRIPTION:
URL:https://northbattlefordlibrary.com/event/rapid-access-counseling-13/
LOCATION:North Battleford Library\, 1392 101st Street\, North Battleford\, Saskatchewan\, S9A 1A2\, Canada
CATEGORIES:Adult
END:VEVENT
BEGIN:VEVENT
DTSTART;TZID=America/Regina:20260428T183000
DTEND;TZID=America/Regina:20260428T200000
DTSTAMP:20260420T041216
CREATED:20260407T225954Z
LAST-MODIFIED:20260408T004455Z
UID:6837-1777401000-1777406400@northbattlefordlibrary.com
SUMMARY:Healing After Harm (Women)
DESCRIPTION:Healing After Harm is an adult domestic violence support group for individuals impacted by abuse in intimate relationships.\nThis group offers a safe\, confidential space to share\, connect\, and begin healing at your own pace. \nJoin us as a drop-in or register ahead of time. \nContact information:\nRobin\ncommunity.connector@aatcs.ca\nBrynn\ncounsellor@aatcs.ca \n306-445-0055
URL:https://northbattlefordlibrary.com/event/healing-after-harm-women-4/
LOCATION:North Battleford Library\, 1392 101st Street\, North Battleford\, Saskatchewan\, S9A 1A2\, Canada
CATEGORIES:Women
END:VEVENT
BEGIN:VEVENT
DTSTART;TZID=America/Regina:20260429T183000
DTEND;TZID=America/Regina:20260429T200000
DTSTAMP:20260420T041216
CREATED:20260407T225025Z
LAST-MODIFIED:20260408T003551Z
UID:6829-1777487400-1777492800@northbattlefordlibrary.com
SUMMARY:Healing after Harm (Men)
DESCRIPTION:Healing After Harm is an adult domestic violence support group for individuals impacted by abuse in intimate relationships.\nThis group offers a safe\, confidential space to share\, connect\, and begin healing at your own pace. \nJoin us as a drop-in or register ahead of time. \nContact information:\nRobin\ncommunity.connector@aatcs.ca\nBrynn\ncounsellor@aatcs.ca \n306-445-0055
URL:https://northbattlefordlibrary.com/event/healing-after-harm-men-3/
LOCATION:North Battleford Library\, 1392 101st Street\, North Battleford\, Saskatchewan\, S9A 1A2\, Canada
CATEGORIES:Men
END:VEVENT
BEGIN:VEVENT
DTSTART;TZID=America/Regina:20260430T180000
DTEND;TZID=America/Regina:20260430T200000
DTSTAMP:20260420T041216
CREATED:20260407T230808Z
LAST-MODIFIED:20260407T230808Z
UID:6847-1777572000-1777579200@northbattlefordlibrary.com
SUMMARY:Dungeons & Dragons
DESCRIPTION:
URL:https://northbattlefordlibrary.com/event/dungeons-dragons-55/
LOCATION:North Battleford Library\, 1392 101st Street\, North Battleford\, Saskatchewan\, S9A 1A2\, Canada
CATEGORIES:Adult
END:VEVENT
END:VCALENDAR