BEGIN:VCALENDAR
VERSION:2.0
PRODID:-//North Battleford Public Library - ECPv6.15.20//NONSGML v1.0//EN
CALSCALE:GREGORIAN
METHOD:PUBLISH
X-ORIGINAL-URL:https://northbattlefordlibrary.com
X-WR-CALDESC:Events for North Battleford Public Library
REFRESH-INTERVAL;VALUE=DURATION:PT1H
X-Robots-Tag:noindex
X-PUBLISHED-TTL:PT1H
BEGIN:VTIMEZONE
TZID:America/Regina
BEGIN:STANDARD
TZOFFSETFROM:-0600
TZOFFSETTO:-0600
TZNAME:CST
DTSTART:20200101T000000
END:STANDARD
END:VTIMEZONE
BEGIN:VEVENT
DTSTART;TZID=America/Regina:20210810T150000
DTEND;TZID=America/Regina:20210810T153000
DTSTAMP:20260420T041330
CREATED:20210714T230550Z
LAST-MODIFIED:20210714T230550Z
UID:2684-1628607600-1628609400@northbattlefordlibrary.com
SUMMARY:Boredom Busters Online
DESCRIPTION:Follow along with a craft\, science experiment or other fun activities.\nLinks will be provided afterwards for more details about the activity.(Facebook and Youtube)
URL:https://northbattlefordlibrary.com/event/boredom-busters-online-60/
LOCATION:online
CATEGORIES:cooking,Craft,family,Kids
END:VEVENT
BEGIN:VEVENT
DTSTART;TZID=America/Regina:20210811T110000
DTEND;TZID=America/Regina:20210811T112000
DTSTAMP:20260420T041330
CREATED:20210714T230910Z
LAST-MODIFIED:20210714T230910Z
UID:2688-1628679600-1628680800@northbattlefordlibrary.com
SUMMARY:Time for Tots – online (North Battleford Public Library Online Storytimes on Facebook)
DESCRIPTION:Toddler appropriate stories and stretches. \nLinks to find stories on lakelandlibrary.ca will be provided. \nJoin us every Wednesday morning -type in your child’s name and we will give a hello to them!
URL:https://northbattlefordlibrary.com/event/time-for-tots-online-north-battleford-public-library-online-storytimes-on-facebook-46/
LOCATION:online
CATEGORIES:family,Kids
END:VEVENT
BEGIN:VEVENT
DTSTART;TZID=America/Regina:20210813T110000
DTEND;TZID=America/Regina:20210813T112000
DTSTAMP:20260420T041330
CREATED:20210714T231138Z
LAST-MODIFIED:20210714T231138Z
UID:2692-1628852400-1628853600@northbattlefordlibrary.com
SUMMARY:Tales and More – online (North Battleford Public Library Online Storytimes)
DESCRIPTION:Preschool aged appropriate stories and stretches. \nJoin us every Friday morning -type in your child’s name and we will give a hello to them!
URL:https://northbattlefordlibrary.com/event/tales-and-more-online-north-battleford-public-library-online-storytimes-50/
LOCATION:online
CATEGORIES:family,Kids
END:VEVENT
BEGIN:VEVENT
DTSTART;TZID=America/Regina:20210816T190000
DTEND;TZID=America/Regina:20210816T193000
DTSTAMP:20260420T041330
CREATED:20210723T171705Z
LAST-MODIFIED:20210723T171705Z
UID:2696-1629140400-1629142200@northbattlefordlibrary.com
SUMMARY:Soothing Stories and Stretches-online Storytime
DESCRIPTION:Join Korrine\, our children’s librarian as she tells traditional and original stories accompanied by basic yoga and stretches for kids. A way to help your child ease into an calm mindset for bedtime.
URL:https://northbattlefordlibrary.com/event/soothing-stories-and-stretches-online-storytime-54/
LOCATION:online
CATEGORIES:family,Kids
END:VEVENT
BEGIN:VEVENT
DTSTART;TZID=America/Regina:20210817T150000
DTEND;TZID=America/Regina:20210817T153000
DTSTAMP:20260420T041330
CREATED:20210723T172930Z
LAST-MODIFIED:20210723T172930Z
UID:2698-1629212400-1629214200@northbattlefordlibrary.com
SUMMARY:Boredom Busters Online
DESCRIPTION:Follow along with a craft\, science experiment or other fun activities.\nLinks will be provided afterwards for more details about the activity.(Facebook and Youtube)
URL:https://northbattlefordlibrary.com/event/boredom-busters-online-61/
LOCATION:online
CATEGORIES:cooking,Craft,family,Kids
END:VEVENT
BEGIN:VEVENT
DTSTART;TZID=America/Regina:20210818T110000
DTEND;TZID=America/Regina:20210818T113000
DTSTAMP:20260420T041330
CREATED:20210723T173207Z
LAST-MODIFIED:20210723T173207Z
UID:2702-1629284400-1629286200@northbattlefordlibrary.com
SUMMARY:Time for Tots – online (North Battleford Public Library Online Storytimes on Facebook)
DESCRIPTION:Toddler appropriate stories and stretches. \nLinks to find stories on lakelandlibrary.ca will be provided. \nJoin us every Wednesday morning -type in your child’s name and we will give a hello to them!
URL:https://northbattlefordlibrary.com/event/time-for-tots-online-north-battleford-public-library-online-storytimes-on-facebook-47/
LOCATION:online
CATEGORIES:Craft,family,Kids
END:VEVENT
BEGIN:VEVENT
DTSTART;TZID=America/Regina:20210820T110000
DTEND;TZID=America/Regina:20210820T133000
DTSTAMP:20260420T041330
CREATED:20210723T173351Z
LAST-MODIFIED:20210723T173351Z
UID:2704-1629457200-1629466200@northbattlefordlibrary.com
SUMMARY:Tales and More – online (North Battleford Public Library Online Storytimes)
DESCRIPTION:Preschool aged appropriate stories and stretches. \nJoin us every Friday morning -type in your child’s name and we will give a hello to them!
URL:https://northbattlefordlibrary.com/event/tales-and-more-online-north-battleford-public-library-online-storytimes-51/
LOCATION:online
CATEGORIES:Craft,family,Kids
END:VEVENT
BEGIN:VEVENT
DTSTART;TZID=America/Regina:20210820T190000
DTEND;TZID=America/Regina:20210820T193000
DTSTAMP:20260420T041330
CREATED:20210723T175038Z
LAST-MODIFIED:20210723T175038Z
UID:2716-1629486000-1629487800@northbattlefordlibrary.com
SUMMARY:Can Learn Library Online
DESCRIPTION:Here you will find all our tutorials from the Can Learn Library program. Every week we are uploading new DIY\, hobby\, cooking etc. video tutorials for you to enjoy. \nIf you follow along\, please share your creations with us. Send any photos\, tips or tricks to ref.desk@lakeland.lib.sk.ca. Videos are uploaded to our North Battleford Library Youtube Channel.
URL:https://northbattlefordlibrary.com/event/can-learn-library-online-50/
LOCATION:online
CATEGORIES:cooking,Craft,family,Kids
END:VEVENT
BEGIN:VEVENT
DTSTART;TZID=America/Regina:20210823T190000
DTEND;TZID=America/Regina:20210823T193000
DTSTAMP:20260420T041330
CREATED:20210723T174353Z
LAST-MODIFIED:20210723T174353Z
UID:2706-1629745200-1629747000@northbattlefordlibrary.com
SUMMARY:Soothing Stories and Stretches-online Storytime
DESCRIPTION:Join Korrine\, our children’s librarian as she tells traditional and original stories accompanied by basic yoga and stretches for kids. A way to help your child ease into an calm mindset for bedtime.
URL:https://northbattlefordlibrary.com/event/soothing-stories-and-stretches-online-storytime-55/
LOCATION:online
CATEGORIES:family,Kids
END:VEVENT
BEGIN:VEVENT
DTSTART;TZID=America/Regina:20210824T150000
DTEND;TZID=America/Regina:20210824T153000
DTSTAMP:20260420T041330
CREATED:20210723T174515Z
LAST-MODIFIED:20210723T174515Z
UID:2708-1629817200-1629819000@northbattlefordlibrary.com
SUMMARY:Boredom Busters Online
DESCRIPTION:Follow along with a craft\, science experiment or other fun activities.\nLinks will be provided afterwards for more details about the activity.(Facebook and Youtube)
URL:https://northbattlefordlibrary.com/event/boredom-busters-online-62/
LOCATION:online
CATEGORIES:cooking,Craft,family,Kids
END:VEVENT
BEGIN:VEVENT
DTSTART;TZID=America/Regina:20210827T110000
DTEND;TZID=America/Regina:20210827T113000
DTSTAMP:20260420T041330
CREATED:20210723T174901Z
LAST-MODIFIED:20210723T174901Z
UID:2714-1630062000-1630063800@northbattlefordlibrary.com
SUMMARY:Tales and More – online (North Battleford Public Library Online Storytimes
DESCRIPTION:Preschool aged appropriate stories and stretches. \nJoin us every Friday morning -type in your child’s name and we will give a hello to them!
URL:https://northbattlefordlibrary.com/event/tales-and-more-online-north-battleford-public-library-online-storytimes-52/
LOCATION:online
CATEGORIES:Craft,family,Kids
END:VEVENT
BEGIN:VEVENT
DTSTART;TZID=America/Regina:20210923T150000
DTEND;TZID=America/Regina:20210923T153000
DTSTAMP:20260420T041330
CREATED:20210826T235446Z
LAST-MODIFIED:20210826T235446Z
UID:2790-1632409200-1632411000@northbattlefordlibrary.com
SUMMARY:Boredom Busters Online
DESCRIPTION:Follow along with a craft\, science experiment or other fun activities.\nLinks will be provided afterwards for more details about the activity.(Facebook and Youtube)
URL:https://northbattlefordlibrary.com/event/boredom-busters-online-64/
LOCATION:online
CATEGORIES:cooking,Craft,family,Kids
END:VEVENT
BEGIN:VEVENT
DTSTART;TZID=America/Regina:20211007T150000
DTEND;TZID=America/Regina:20211007T153000
DTSTAMP:20260420T041330
CREATED:20210910T205751Z
LAST-MODIFIED:20210910T205751Z
UID:2815-1633618800-1633620600@northbattlefordlibrary.com
SUMMARY:Boredom Busters online
DESCRIPTION:Follow along with a craft\, science experiment or other fun activities.\nLinks will be provided afterwards for more details about the activity.(Facebook and Youtube)
URL:https://northbattlefordlibrary.com/event/boredom-busters-online-65/
CATEGORIES:cooking,Craft,family,Kids
END:VEVENT
BEGIN:VEVENT
DTSTART;TZID=America/Regina:20211020T150000
DTEND;TZID=America/Regina:20211020T153000
DTSTAMP:20260420T041330
CREATED:20211020T175034Z
LAST-MODIFIED:20211020T175034Z
UID:2868-1634742000-1634743800@northbattlefordlibrary.com
SUMMARY:Boredom Busters online
DESCRIPTION:Follow along with a craft\, science experiment or other fun activities.\nLinks will be provided afterwards for more details about the activity.(Facebook and Youtube)
URL:https://northbattlefordlibrary.com/event/boredom-busters-online-68/
LOCATION:online
CATEGORIES:cooking,Craft,family,Kids
END:VEVENT
BEGIN:VEVENT
DTSTART;TZID=America/Regina:20211021T150000
DTEND;TZID=America/Regina:20211021T153000
DTSTAMP:20260420T041330
CREATED:20210915T021716Z
LAST-MODIFIED:20210915T021716Z
UID:2821-1634828400-1634830200@northbattlefordlibrary.com
SUMMARY:Boredom Busters Online
DESCRIPTION:Follow along with a craft\, science experiment or other fun activities.\nLinks will be provided afterwards for more details about the activity.(Facebook and Youtube)
URL:https://northbattlefordlibrary.com/event/boredom-busters-online-66/
LOCATION:online
CATEGORIES:cooking,Craft,family,Kids
END:VEVENT
BEGIN:VEVENT
DTSTART;TZID=America/Regina:20211030T183000
DTEND;TZID=America/Regina:20211030T203000
DTSTAMP:20260420T041330
CREATED:20211027T164050Z
LAST-MODIFIED:20211027T164503Z
UID:2879-1635618600-1635625800@northbattlefordlibrary.com
SUMMARY:Digital Dungeon Crawl
DESCRIPTION:Lakeland Library Region will be running an Online Dungeons and Dragons program every Saturday from 6:30 p.m. – 8:30 p.m. starting October 30th\, through the use of Google Meet and Fantasy Grounds. To register\, please email s.carnahan@lakeland.lib.sk.ca. We look forward to hearing from you!
URL:https://northbattlefordlibrary.com/event/digital-dungeon-crawl/
LOCATION:online
CATEGORIES:Adult,Kids,Senior,teens
ORGANIZER;CN="Lakeland Library Region":MAILTO:s.carnahan@lakeland.lib.sk.ca.
END:VEVENT
BEGIN:VEVENT
DTSTART;TZID=America/Regina:20211104T150000
DTEND;TZID=America/Regina:20211104T153000
DTSTAMP:20260420T041330
CREATED:20211008T200742Z
LAST-MODIFIED:20211008T200913Z
UID:2856-1636038000-1636039800@northbattlefordlibrary.com
SUMMARY:Boredom Busters online
DESCRIPTION:Follow along with a craft\, science experiment or other fun activities.\nLinks will be provided afterwards for more details about the activity.(Facebook and Youtube)
URL:https://northbattlefordlibrary.com/event/2856/
LOCATION:online
CATEGORIES:cooking,Craft,family,Kids
END:VEVENT
BEGIN:VEVENT
DTSTART;TZID=America/Regina:20211106T183000
DTEND;TZID=America/Regina:20211106T203000
DTSTAMP:20260420T041330
CREATED:20211027T164426Z
LAST-MODIFIED:20211027T164426Z
UID:2882-1636223400-1636230600@northbattlefordlibrary.com
SUMMARY:Digital Dungeon Crawl
DESCRIPTION:Lakeland Library Region will be running an Online Dungeons and Dragons program every Saturday from 6:30 p.m. – 8:30 p.m. starting October 30th\, through the use of Google Meet and Fantasy Grounds. To register\, please email s.carnahan@lakeland.lib.sk.ca. We look forward to hearing from you!
URL:https://northbattlefordlibrary.com/event/digital-dungeon-crawl-2/
LOCATION:online
CATEGORIES:Adult,Kids,Senior,teens
ORGANIZER;CN="Lakeland Library Region":MAILTO:s.carnahan@lakeland.lib.sk.ca.
END:VEVENT
BEGIN:VEVENT
DTSTART;TZID=America/Regina:20211112T140000
DTEND;TZID=America/Regina:20211112T170000
DTSTAMP:20260420T041330
CREATED:20211028T213714Z
LAST-MODIFIED:20211028T213714Z
UID:2898-1636725600-1636736400@northbattlefordlibrary.com
SUMMARY:Nintendo Switch Online
DESCRIPTION:Join us from home for Mario Kart Deluxe 8 and Super Smash Bros with Nintendo Switch Online. \nFriend Code: SW-0764-6634-7988
URL:https://northbattlefordlibrary.com/event/nintendo-switch-online/
LOCATION:online
CATEGORIES:Adult,Kids,teens
END:VEVENT
BEGIN:VEVENT
DTSTART;TZID=America/Regina:20211113T140000
DTEND;TZID=America/Regina:20211113T170000
DTSTAMP:20260420T041330
CREATED:20211028T213817Z
LAST-MODIFIED:20211028T213817Z
UID:2900-1636812000-1636822800@northbattlefordlibrary.com
SUMMARY:Nintendo Switch Online
DESCRIPTION:Join us from home for Mario Kart Deluxe 8 and Super Smash Bros with Nintendo Switch Online. \nFriend Code: SW-0764-6634-7988
URL:https://northbattlefordlibrary.com/event/nintendo-switch-online-2/
LOCATION:online
CATEGORIES:Adult,Kids,teens
END:VEVENT
BEGIN:VEVENT
DTSTART;TZID=America/Regina:20211113T183000
DTEND;TZID=America/Regina:20211113T203000
DTSTAMP:20260420T041330
CREATED:20211027T164633Z
LAST-MODIFIED:20211027T164633Z
UID:2885-1636828200-1636835400@northbattlefordlibrary.com
SUMMARY:Digital Dungeon Crawl
DESCRIPTION:Lakeland Library Region will be running an Online Dungeons and Dragons program every Saturday from 6:30 p.m. – 8:30 p.m. starting October 30th\, through the use of Google Meet and Fantasy Grounds. To register\, please email s.carnahan@lakeland.lib.sk.ca. We look forward to hearing from you!
URL:https://northbattlefordlibrary.com/event/digital-dungeon-crawl-3/
LOCATION:online
CATEGORIES:Adult,Kids,Senior,teens
ORGANIZER;CN="Lakeland Library Region":MAILTO:s.carnahan@lakeland.lib.sk.ca.
END:VEVENT
BEGIN:VEVENT
DTSTART;TZID=America/Regina:20211118T150000
DTEND;TZID=America/Regina:20211118T153000
DTSTAMP:20260420T041330
CREATED:20211020T174917Z
LAST-MODIFIED:20211025T195923Z
UID:2866-1637247600-1637249400@northbattlefordlibrary.com
SUMMARY:Boredom Busters Online
DESCRIPTION:Follow along with a craft\, science experiment or other fun activities.\nLinks will be provided afterwards for more details about the activity.(Facebook and Youtube)
URL:https://northbattlefordlibrary.com/event/boredom-busters-online-67/
LOCATION:online
CATEGORIES:cooking,Craft,family,Kids
END:VEVENT
BEGIN:VEVENT
DTSTART;TZID=America/Regina:20211120T183000
DTEND;TZID=America/Regina:20211120T203000
DTSTAMP:20260420T041330
CREATED:20211027T164756Z
LAST-MODIFIED:20211027T164756Z
UID:2887-1637433000-1637440200@northbattlefordlibrary.com
SUMMARY:Digital Dungeon Crawl
DESCRIPTION:Lakeland Library Region will be running an Online Dungeons and Dragons program every Saturday from 6:30 p.m. – 8:30 p.m. starting October 30th\, through the use of Google Meet and Fantasy Grounds. To register\, please email s.carnahan@lakeland.lib.sk.ca. We look forward to hearing from you!
URL:https://northbattlefordlibrary.com/event/digital-dungeon-crawl-4/
LOCATION:online
CATEGORIES:Adult,Kids,Senior,teens
ORGANIZER;CN="Lakeland Library Region":MAILTO:s.carnahan@lakeland.lib.sk.ca.
END:VEVENT
BEGIN:VEVENT
DTSTART;TZID=America/Regina:20211202T150000
DTEND;TZID=America/Regina:20211202T153000
DTSTAMP:20260420T041330
CREATED:20211029T201449Z
LAST-MODIFIED:20211029T201449Z
UID:2922-1638457200-1638459000@northbattlefordlibrary.com
SUMMARY:Boredom Buster Online
DESCRIPTION:Follow along with a craft\, science experiment or other fun activities.\nLinks will be provided afterwards for more details about the activity.(Facebook and Youtube)
URL:https://northbattlefordlibrary.com/event/boredom-buster-online/
LOCATION:online
CATEGORIES:cooking,Craft,family,Kids
END:VEVENT
BEGIN:VEVENT
DTSTART;TZID=America/Regina:20211204T183000
DTEND;TZID=America/Regina:20211204T203000
DTSTAMP:20260420T041330
CREATED:20211027T170655Z
LAST-MODIFIED:20211027T170655Z
UID:2891-1638642600-1638649800@northbattlefordlibrary.com
SUMMARY:Digital Dungeon Crawl
DESCRIPTION:Lakeland Library Region will be running an Online Dungeons and Dragons program every Saturday from 6:30 p.m. – 8:30 p.m. starting October 30th\, through the use of Google Meet and Fantasy Grounds. To register\, please email s.carnahan@lakeland.lib.sk.ca. We look forward to hearing from you!
URL:https://northbattlefordlibrary.com/event/digital-dungeon-crawl-6/
LOCATION:online
CATEGORIES:Adult,Kids,Senior,teens
ORGANIZER;CN="Lakeland Library Region":MAILTO:s.carnahan@lakeland.lib.sk.ca.
END:VEVENT
BEGIN:VEVENT
DTSTART;TZID=America/Regina:20211216T150000
DTEND;TZID=America/Regina:20211216T153000
DTSTAMP:20260420T041330
CREATED:20211029T201622Z
LAST-MODIFIED:20211029T201622Z
UID:2924-1639666800-1639668600@northbattlefordlibrary.com
SUMMARY:Boredom Busters Online
DESCRIPTION:Follow along with a craft\, science experiment or other fun activities.\nLinks will be provided afterwards for more details about the activity.(Facebook and Youtube)
URL:https://northbattlefordlibrary.com/event/boredom-busters-online-69/
LOCATION:online
CATEGORIES:cooking,Craft,family,Kids
END:VEVENT
BEGIN:VEVENT
DTSTART;TZID=America/Regina:20211230T150000
DTEND;TZID=America/Regina:20211230T153000
DTSTAMP:20260420T041330
CREATED:20211229T194717Z
LAST-MODIFIED:20211229T194717Z
UID:2980-1640876400-1640878200@northbattlefordlibrary.com
SUMMARY:Boredom Busters Online
DESCRIPTION:Follow along with a craft\, science experiment or other fun activities.\nLinks will be provided afterwards for more details about the activity.(Facebook and Youtube)
URL:https://northbattlefordlibrary.com/event/boredom-busters-online-70/
LOCATION:online
CATEGORIES:cooking,Craft,family,Kids
END:VEVENT
BEGIN:VEVENT
DTSTART;TZID=America/Regina:20220103T080000
DTEND;TZID=America/Regina:20220402T170000
DTSTAMP:20260420T041330
CREATED:20211229T200909Z
LAST-MODIFIED:20211229T200909Z
UID:2986-1641196800-1648918800@northbattlefordlibrary.com
SUMMARY:Lakeland Library Region Winter Reading Contest 2022
DESCRIPTION:Join Sam the Snowy Owl and read across the Saskatchewan skies and complete Bingo Sheets (available at your local Lakeland Library)
URL:https://northbattlefordlibrary.com/event/lakeland-library-region-winter-reading-contest-2022/
CATEGORIES:Adult,family,Kids,Senior,teens
ORGANIZER;CN="Lakeland Library Region":MAILTO:s.carnahan@lakeland.lib.sk.ca.
END:VEVENT
BEGIN:VEVENT
DTSTART;TZID=America/Regina:20220120T150000
DTEND;TZID=America/Regina:20220120T153000
DTSTAMP:20260420T041330
CREATED:20211229T194822Z
LAST-MODIFIED:20220111T163859Z
UID:2982-1642690800-1642692600@northbattlefordlibrary.com
SUMMARY:Boredom Busters Online
DESCRIPTION:Follow along with a craft\, science experiment or other fun activities.\nLinks will be provided afterwards for more details about the activity.(Facebook and Youtube)
URL:https://northbattlefordlibrary.com/event/boredom-busters-online-71/
LOCATION:online
CATEGORIES:cooking,Craft,family,Kids
END:VEVENT
BEGIN:VEVENT
DTSTART;TZID=America/Regina:20220127T110000
DTEND;TZID=America/Regina:20220127T160000
DTSTAMP:20260420T041330
CREATED:20211229T201326Z
LAST-MODIFIED:20211229T201520Z
UID:2992-1643281200-1643299200@northbattlefordlibrary.com
SUMMARY:Family Literacy Day-Stroll Through a Story
DESCRIPTION:Celebrate Family Literacy Day by strolling through a story. The Lakeland Library Region’s North Battleford Library\, in partnership with Lloydminster Learning Council Association will have a story spread throughout central park (weather depending\, will be inside the library if not able to be outside). Stroll through the story and then enter your child’s name and your phone number for a prize raffle inside the library.
URL:https://northbattlefordlibrary.com/event/library-closed-38/
CATEGORIES:family,Kids
END:VEVENT
END:VCALENDAR