BEGIN:VCALENDAR
VERSION:2.0
PRODID:-//North Battleford Public Library - ECPv6.15.20//NONSGML v1.0//EN
CALSCALE:GREGORIAN
METHOD:PUBLISH
X-ORIGINAL-URL:https://northbattlefordlibrary.com
X-WR-CALDESC:Events for North Battleford Public Library
REFRESH-INTERVAL;VALUE=DURATION:PT1H
X-Robots-Tag:noindex
X-PUBLISHED-TTL:PT1H
BEGIN:VTIMEZONE
TZID:America/Regina
BEGIN:STANDARD
TZOFFSETFROM:-0600
TZOFFSETTO:-0600
TZNAME:CST
DTSTART:20200101T000000
END:STANDARD
END:VTIMEZONE
BEGIN:VEVENT
DTSTART;VALUE=DATE:20220911
DTEND;VALUE=DATE:20220912
DTSTAMP:20260423T023228
CREATED:20220825T200554Z
LAST-MODIFIED:20220825T200554Z
UID:3346-1662854400-1662940799@northbattlefordlibrary.com
SUMMARY:Library closed
DESCRIPTION:
URL:https://northbattlefordlibrary.com/event/library-closed-55/
LOCATION:North Battleford Library\, 1392 101st Street\, North Battleford\, Saskatchewan\, S9A 1A2\, Canada
CATEGORIES:Library Closed
END:VEVENT
BEGIN:VEVENT
DTSTART;TZID=America/Regina:20220905T080000
DTEND;TZID=America/Regina:20220905T170000
DTSTAMP:20260423T023228
CREATED:20220810T202507Z
LAST-MODIFIED:20220810T202507Z
UID:3317-1662364800-1662397200@northbattlefordlibrary.com
SUMMARY:Library closed
DESCRIPTION:Closed for Labour Day
URL:https://northbattlefordlibrary.com/event/library-closed-51/
LOCATION:North Battleford Library\, 1392 101st Street\, North Battleford\, Saskatchewan\, S9A 1A2\, Canada
CATEGORIES:Library Closed
END:VEVENT
BEGIN:VEVENT
DTSTART;VALUE=DATE:20220904
DTEND;VALUE=DATE:20220905
DTSTAMP:20260423T023228
CREATED:20220810T202037Z
LAST-MODIFIED:20220810T202221Z
UID:3315-1662249600-1662335999@northbattlefordlibrary.com
SUMMARY:Library closed
DESCRIPTION:
URL:https://northbattlefordlibrary.com/event/library-closed-52/
LOCATION:North Battleford Library\, 1392 101st Street\, North Battleford\, Saskatchewan\, S9A 1A2\, Canada
CATEGORIES:Library Closed
END:VEVENT
BEGIN:VEVENT
DTSTART;VALUE=DATE:20220801
DTEND;VALUE=DATE:20220802
DTSTAMP:20260423T023228
CREATED:20220712T222328Z
LAST-MODIFIED:20220712T222342Z
UID:3250-1659312000-1659398399@northbattlefordlibrary.com
SUMMARY:Library closed for Saskatchewan Day
DESCRIPTION:
URL:https://northbattlefordlibrary.com/event/library-colsed-for-saskatchewan-day/
LOCATION:Saskatchewan
CATEGORIES:Library Closed
END:VEVENT
BEGIN:VEVENT
DTSTART;VALUE=DATE:20220701
DTEND;VALUE=DATE:20220702
DTSTAMP:20260423T023228
CREATED:20220603T225824Z
LAST-MODIFIED:20220608T215300Z
UID:3177-1656633600-1656719999@northbattlefordlibrary.com
SUMMARY:Library closed for Canada Day
DESCRIPTION:We are closed for Friday July 1\, 2022. \nWe will be open Saturday July 2 as usual.
URL:https://northbattlefordlibrary.com/event/library-closed-for-canada-day/
LOCATION:Saskatchewan
CATEGORIES:Library Closed
END:VEVENT
BEGIN:VEVENT
DTSTART;VALUE=DATE:20220626
DTEND;VALUE=DATE:20220627
DTSTAMP:20260423T023228
CREATED:20220603T230056Z
LAST-MODIFIED:20220608T223412Z
UID:3186-1656201600-1656287999@northbattlefordlibrary.com
SUMMARY:Library closed
DESCRIPTION:
URL:https://northbattlefordlibrary.com/event/library-closed-50/
LOCATION:North Battleford Library\, 1392 101st Street\, North Battleford\, Saskatchewan\, S9A 1A2\, Canada
CATEGORIES:Library Closed
END:VEVENT
BEGIN:VEVENT
DTSTART;VALUE=DATE:20220619
DTEND;VALUE=DATE:20220620
DTSTAMP:20260423T023228
CREATED:20220603T230022Z
LAST-MODIFIED:20220608T220803Z
UID:3184-1655596800-1655683199@northbattlefordlibrary.com
SUMMARY:Library closed
DESCRIPTION:
URL:https://northbattlefordlibrary.com/event/library-closed-49/
LOCATION:North Battleford Library\, 1392 101st Street\, North Battleford\, Saskatchewan\, S9A 1A2\, Canada
CATEGORIES:Library Closed
END:VEVENT
BEGIN:VEVENT
DTSTART;VALUE=DATE:20220612
DTEND;VALUE=DATE:20220613
DTSTAMP:20260423T023228
CREATED:20220603T225947Z
LAST-MODIFIED:20220608T220543Z
UID:3182-1654992000-1655078399@northbattlefordlibrary.com
SUMMARY:Library closed
DESCRIPTION:
URL:https://northbattlefordlibrary.com/event/library-closed-48/
LOCATION:North Battleford Library\, 1392 101st Street\, North Battleford\, Saskatchewan\, S9A 1A2\, Canada
CATEGORIES:Library Closed
END:VEVENT
BEGIN:VEVENT
DTSTART;VALUE=DATE:20220605
DTEND;VALUE=DATE:20220606
DTSTAMP:20260423T023228
CREATED:20220603T225916Z
LAST-MODIFIED:20220608T220405Z
UID:3180-1654387200-1654473599@northbattlefordlibrary.com
SUMMARY:Library closed
DESCRIPTION:
URL:https://northbattlefordlibrary.com/event/library-closed-47/
LOCATION:North Battleford Library\, 1392 101st Street\, North Battleford\, Saskatchewan\, S9A 1A2\, Canada
CATEGORIES:Library Closed
END:VEVENT
BEGIN:VEVENT
DTSTART;VALUE=DATE:20220523
DTEND;VALUE=DATE:20220524
DTSTAMP:20260423T023228
CREATED:20220411T214018Z
LAST-MODIFIED:20220411T214018Z
UID:3113-1653264000-1653350399@northbattlefordlibrary.com
SUMMARY:Library closed
DESCRIPTION:
URL:https://northbattlefordlibrary.com/event/library-closed-46/
LOCATION:North Battleford Library\, 1392 101st Street\, North Battleford\, Saskatchewan\, S9A 1A2\, Canada
CATEGORIES:Library Closed
END:VEVENT
BEGIN:VEVENT
DTSTART;VALUE=DATE:20220501
DTEND;VALUE=DATE:20220502
DTSTAMP:20260423T023228
CREATED:20220408T232515Z
LAST-MODIFIED:20220408T232515Z
UID:3111-1651363200-1651449599@northbattlefordlibrary.com
SUMMARY:Library closed
DESCRIPTION:
URL:https://northbattlefordlibrary.com/event/library-closed-45/
LOCATION:North Battleford Library\, 1392 101st Street\, North Battleford\, Saskatchewan\, S9A 1A2\, Canada
CATEGORIES:Library Closed
END:VEVENT
BEGIN:VEVENT
DTSTART;VALUE=DATE:20220424
DTEND;VALUE=DATE:20220425
DTSTAMP:20260423T023228
CREATED:20220405T232528Z
LAST-MODIFIED:20220405T232528Z
UID:3108-1650758400-1650844799@northbattlefordlibrary.com
SUMMARY:Library closed
DESCRIPTION:
URL:https://northbattlefordlibrary.com/event/library-closed-44/
LOCATION:North Battleford Library\, 1392 101st Street\, North Battleford\, Saskatchewan\, S9A 1A2\, Canada
CATEGORIES:Library Closed
END:VEVENT
BEGIN:VEVENT
DTSTART;VALUE=DATE:20220417
DTEND;VALUE=DATE:20220418
DTSTAMP:20260423T023228
CREATED:20220405T232354Z
LAST-MODIFIED:20220405T232432Z
UID:3106-1650153600-1650239999@northbattlefordlibrary.com
SUMMARY:Library closed
DESCRIPTION:
URL:https://northbattlefordlibrary.com/event/library-closed-43/
LOCATION:North Battleford Library\, 1392 101st Street\, North Battleford\, Saskatchewan\, S9A 1A2\, Canada
CATEGORIES:Library Closed
END:VEVENT
BEGIN:VEVENT
DTSTART;VALUE=DATE:20220415
DTEND;VALUE=DATE:20220416
DTSTAMP:20260423T023228
CREATED:20220405T232057Z
LAST-MODIFIED:20220405T232057Z
UID:3104-1649980800-1650067199@northbattlefordlibrary.com
SUMMARY:Library closed
DESCRIPTION:
URL:https://northbattlefordlibrary.com/event/library-closed-42/
LOCATION:Saskatchewan
CATEGORIES:Library Closed
END:VEVENT
BEGIN:VEVENT
DTSTART;VALUE=DATE:20220403
DTEND;VALUE=DATE:20220404
DTSTAMP:20260423T023228
CREATED:20220404T224416Z
LAST-MODIFIED:20220405T231950Z
UID:3086-1648944000-1649030399@northbattlefordlibrary.com
SUMMARY:Library closed
DESCRIPTION:
URL:https://northbattlefordlibrary.com/event/library-closed-40/
LOCATION:Saskatchewan
CATEGORIES:Library Closed
END:VEVENT
BEGIN:VEVENT
DTSTART;VALUE=DATE:20220227
DTEND;VALUE=DATE:20220228
DTSTAMP:20260423T023228
CREATED:20220201T020802Z
LAST-MODIFIED:20220201T020802Z
UID:3036-1645920000-1646006399@northbattlefordlibrary.com
SUMMARY:Closed
DESCRIPTION:
URL:https://northbattlefordlibrary.com/event/closed-6/
LOCATION:Saskatchewan
CATEGORIES:Library Closed
END:VEVENT
BEGIN:VEVENT
DTSTART;VALUE=DATE:20220221
DTEND;VALUE=DATE:20220222
DTSTAMP:20260423T023228
CREATED:20220201T020509Z
LAST-MODIFIED:20220201T020509Z
UID:3026-1645401600-1645487999@northbattlefordlibrary.com
SUMMARY:Library closed for Family Day
DESCRIPTION:
URL:https://northbattlefordlibrary.com/event/library-closed-for-family-day/
LOCATION:Saskatchewan
CATEGORIES:Library Closed
END:VEVENT
BEGIN:VEVENT
DTSTART;VALUE=DATE:20220220
DTEND;VALUE=DATE:20220221
DTSTAMP:20260423T023228
CREATED:20220201T020728Z
LAST-MODIFIED:20220201T020728Z
UID:3032-1645315200-1645401599@northbattlefordlibrary.com
SUMMARY:Closed
DESCRIPTION:
URL:https://northbattlefordlibrary.com/event/closed-5/
LOCATION:Saskatchewan
CATEGORIES:Library Closed
END:VEVENT
BEGIN:VEVENT
DTSTART;VALUE=DATE:20220213
DTEND;VALUE=DATE:20220214
DTSTAMP:20260423T023228
CREATED:20220201T020655Z
LAST-MODIFIED:20220201T020655Z
UID:3030-1644710400-1644796799@northbattlefordlibrary.com
SUMMARY:Closed
DESCRIPTION:
URL:https://northbattlefordlibrary.com/event/closed-4/
LOCATION:Saskatchewan
CATEGORIES:Library Closed
END:VEVENT
BEGIN:VEVENT
DTSTART;VALUE=DATE:20220206
DTEND;VALUE=DATE:20220207
DTSTAMP:20260423T023228
CREATED:20220201T020626Z
LAST-MODIFIED:20220201T020626Z
UID:3028-1644105600-1644191999@northbattlefordlibrary.com
SUMMARY:Closed
DESCRIPTION:
URL:https://northbattlefordlibrary.com/event/closed-3/
LOCATION:Saskatchewan
CATEGORIES:Library Closed
END:VEVENT
BEGIN:VEVENT
DTSTART;VALUE=DATE:20220130
DTEND;VALUE=DATE:20220131
DTSTAMP:20260423T023228
CREATED:20211229T201613Z
LAST-MODIFIED:20211229T201613Z
UID:2996-1643500800-1643587199@northbattlefordlibrary.com
SUMMARY:Library closed
DESCRIPTION:
URL:https://northbattlefordlibrary.com/event/library-closed-39/
LOCATION:Saskatchewan
CATEGORIES:Library Closed
END:VEVENT
BEGIN:VEVENT
DTSTART;VALUE=DATE:20220123
DTEND;VALUE=DATE:20220124
DTSTAMP:20260423T023228
CREATED:20211229T201115Z
LAST-MODIFIED:20211229T201115Z
UID:2990-1642896000-1642982399@northbattlefordlibrary.com
SUMMARY:Library closed
DESCRIPTION:
URL:https://northbattlefordlibrary.com/event/library-closed-37/
LOCATION:Saskatchewan
CATEGORIES:Library Closed
END:VEVENT
BEGIN:VEVENT
DTSTART;VALUE=DATE:20220116
DTEND;VALUE=DATE:20220117
DTSTAMP:20260423T023228
CREATED:20211229T201043Z
LAST-MODIFIED:20211229T201043Z
UID:2988-1642291200-1642377599@northbattlefordlibrary.com
SUMMARY:Library closed
DESCRIPTION:
URL:https://northbattlefordlibrary.com/event/library-closed-36/
LOCATION:Saskatchewan
CATEGORIES:Library Closed
END:VEVENT
BEGIN:VEVENT
DTSTART;VALUE=DATE:20220109
DTEND;VALUE=DATE:20220110
DTSTAMP:20260423T023228
CREATED:20211229T194930Z
LAST-MODIFIED:20211229T194930Z
UID:2984-1641686400-1641772799@northbattlefordlibrary.com
SUMMARY:Library closed
DESCRIPTION:
URL:https://northbattlefordlibrary.com/event/library-closed-35/
LOCATION:Saskatchewan
CATEGORIES:Library Closed
END:VEVENT
BEGIN:VEVENT
DTSTART;VALUE=DATE:20220103
DTEND;VALUE=DATE:20220104
DTSTAMP:20260423T023228
CREATED:20211221T172624Z
LAST-MODIFIED:20211221T172624Z
UID:2952-1641168000-1641254399@northbattlefordlibrary.com
SUMMARY:Library Closed
DESCRIPTION:
URL:https://northbattlefordlibrary.com/event/library-closed-34/
LOCATION:Saskatchewan
CATEGORIES:Library Closed
END:VEVENT
BEGIN:VEVENT
DTSTART;VALUE=DATE:20220102
DTEND;VALUE=DATE:20220103
DTSTAMP:20260423T023228
CREATED:20211028T225611Z
LAST-MODIFIED:20211028T225611Z
UID:2910-1641081600-1641167999@northbattlefordlibrary.com
SUMMARY:Library closed
DESCRIPTION:
URL:https://northbattlefordlibrary.com/event/library-closed-29/
LOCATION:North Battleford Library\, 1392 101st Street\, North Battleford\, Saskatchewan\, S9A 1A2\, Canada
CATEGORIES:Library Closed
END:VEVENT
BEGIN:VEVENT
DTSTART;VALUE=DATE:20211225
DTEND;VALUE=DATE:20211226
DTSTAMP:20260423T023228
CREATED:20211025T200036Z
LAST-MODIFIED:20211025T200036Z
UID:2877-1640390400-1640476799@northbattlefordlibrary.com
SUMMARY:Library closed
DESCRIPTION:
URL:https://northbattlefordlibrary.com/event/library-closed-25/
LOCATION:Saskatchewan
CATEGORIES:Library Closed
END:VEVENT
BEGIN:VEVENT
DTSTART;VALUE=DATE:20211128
DTEND;VALUE=DATE:20211129
DTSTAMP:20260423T023228
CREATED:20211029T202256Z
LAST-MODIFIED:20211029T202256Z
UID:2934-1638057600-1638143999@northbattlefordlibrary.com
SUMMARY:Library Closed
DESCRIPTION:Join us for a live game of trivia! 15 questions\, all multiple choice. Simple to play…just type your answer number (1\,2\,3\,4)+ text in the comment section of the video.\nRemember\, it is one entry per round.
URL:https://northbattlefordlibrary.com/event/library-closed-33/
LOCATION:North Battleford Library\, 1392 101st Street\, North Battleford\, Saskatchewan\, S9A 1A2\, Canada
CATEGORIES:Library Closed
END:VEVENT
BEGIN:VEVENT
DTSTART;VALUE=DATE:20211121
DTEND;VALUE=DATE:20211122
DTSTAMP:20260423T023228
CREATED:20211029T202118Z
LAST-MODIFIED:20211029T202118Z
UID:2930-1637452800-1637539199@northbattlefordlibrary.com
SUMMARY:Library Closed
DESCRIPTION:
URL:https://northbattlefordlibrary.com/event/library-closed-31/
LOCATION:North Battleford Library\, 1392 101st Street\, North Battleford\, Saskatchewan\, S9A 1A2\, Canada
CATEGORIES:Library Closed
END:VEVENT
BEGIN:VEVENT
DTSTART;VALUE=DATE:20211114
DTEND;VALUE=DATE:20211115
DTSTAMP:20260423T023228
CREATED:20211029T202206Z
LAST-MODIFIED:20211029T202206Z
UID:2932-1636848000-1636934399@northbattlefordlibrary.com
SUMMARY:Library Closed
DESCRIPTION:
URL:https://northbattlefordlibrary.com/event/library-closed-32/
LOCATION:North Battleford Library\, 1392 101st Street\, North Battleford\, Saskatchewan\, S9A 1A2\, Canada
CATEGORIES:Library Closed
END:VEVENT
END:VCALENDAR