BEGIN:VCALENDAR
VERSION:2.0
PRODID:-//North Battleford Public Library - ECPv6.15.20//NONSGML v1.0//EN
CALSCALE:GREGORIAN
METHOD:PUBLISH
X-ORIGINAL-URL:https://northbattlefordlibrary.com
X-WR-CALDESC:Events for North Battleford Public Library
REFRESH-INTERVAL;VALUE=DURATION:PT1H
X-Robots-Tag:noindex
X-PUBLISHED-TTL:PT1H
BEGIN:VTIMEZONE
TZID:America/Regina
BEGIN:STANDARD
TZOFFSETFROM:-0600
TZOFFSETTO:-0600
TZNAME:CST
DTSTART:20250101T000000
END:STANDARD
END:VTIMEZONE
BEGIN:VEVENT
DTSTART;TZID=America/Regina:20260307T110000
DTEND;TZID=America/Regina:20260307T120000
DTSTAMP:20260420T023710
CREATED:20260408T011733Z
LAST-MODIFIED:20260408T011733Z
UID:6947-1772881200-1772884800@northbattlefordlibrary.com
SUMMARY:Story Time & Craft
DESCRIPTION:
URL:https://northbattlefordlibrary.com/event/story-time-craft-5/
LOCATION:North Battleford Library\, 1392 101st Street\, North Battleford\, Saskatchewan\, S9A 1A2\, Canada
CATEGORIES:Craft,family,Kids,Story time
END:VEVENT
BEGIN:VEVENT
DTSTART;TZID=America/Regina:20260314T110000
DTEND;TZID=America/Regina:20260314T120000
DTSTAMP:20260420T023710
CREATED:20260408T011813Z
LAST-MODIFIED:20260408T011813Z
UID:6949-1773486000-1773489600@northbattlefordlibrary.com
SUMMARY:Story Time & Craft
DESCRIPTION:
URL:https://northbattlefordlibrary.com/event/story-time-craft-6/
LOCATION:North Battleford Library\, 1392 101st Street\, North Battleford\, Saskatchewan\, S9A 1A2\, Canada
CATEGORIES:Craft,family,Kids,Story time
END:VEVENT
BEGIN:VEVENT
DTSTART;TZID=America/Regina:20260321T110000
DTEND;TZID=America/Regina:20260321T120000
DTSTAMP:20260420T023710
CREATED:20260408T011852Z
LAST-MODIFIED:20260408T011852Z
UID:6951-1774090800-1774094400@northbattlefordlibrary.com
SUMMARY:Story Time & Craft
DESCRIPTION:
URL:https://northbattlefordlibrary.com/event/story-time-craft-7/
LOCATION:North Battleford Library\, 1392 101st Street\, North Battleford\, Saskatchewan\, S9A 1A2\, Canada
CATEGORIES:Craft,family,Kids,Story time
END:VEVENT
BEGIN:VEVENT
DTSTART;TZID=America/Regina:20260325T110000
DTEND;TZID=America/Regina:20260325T120000
DTSTAMP:20260420T023710
CREATED:20260408T005609Z
LAST-MODIFIED:20260408T005609Z
UID:6922-1774436400-1774440000@northbattlefordlibrary.com
SUMMARY:Toddler Story Time
DESCRIPTION:
URL:https://northbattlefordlibrary.com/event/toddler-story-time-16/
LOCATION:North Battleford Library\, 1392 101st Street\, North Battleford\, Saskatchewan\, S9A 1A2\, Canada
CATEGORIES:Craft,family,Kids,Story time
END:VEVENT
BEGIN:VEVENT
DTSTART;TZID=America/Regina:20260328T110000
DTEND;TZID=America/Regina:20260328T120000
DTSTAMP:20260420T023710
CREATED:20260408T011935Z
LAST-MODIFIED:20260408T011935Z
UID:6953-1774695600-1774699200@northbattlefordlibrary.com
SUMMARY:Story Time & Craft
DESCRIPTION:
URL:https://northbattlefordlibrary.com/event/story-time-craft-8/
LOCATION:North Battleford Library\, 1392 101st Street\, North Battleford\, Saskatchewan\, S9A 1A2\, Canada
CATEGORIES:Craft,family,Kids,Story time
END:VEVENT
END:VCALENDAR