BEGIN:VCALENDAR
VERSION:2.0
PRODID:-//North Battleford Public Library - ECPv6.15.20//NONSGML v1.0//EN
CALSCALE:GREGORIAN
METHOD:PUBLISH
X-ORIGINAL-URL:https://northbattlefordlibrary.com
X-WR-CALDESC:Events for North Battleford Public Library
REFRESH-INTERVAL;VALUE=DURATION:PT1H
X-Robots-Tag:noindex
X-PUBLISHED-TTL:PT1H
BEGIN:VTIMEZONE
TZID:America/Regina
BEGIN:STANDARD
TZOFFSETFROM:-0600
TZOFFSETTO:-0600
TZNAME:CST
DTSTART:20210101T000000
END:STANDARD
END:VTIMEZONE
BEGIN:VEVENT
DTSTART;TZID=America/Regina:20220827T140000
DTEND;TZID=America/Regina:20220827T160000
DTSTAMP:20260423T062448
CREATED:20220719T192941Z
LAST-MODIFIED:20220810T201850Z
UID:3271-1661608800-1661616000@northbattlefordlibrary.com
SUMMARY:Mushroom Picking for Beginners with Donovan Thiesson
DESCRIPTION:Join us for a two hour presentation of Mushroom Picking for Beginners. \nDonovan is a member of the Saskatchewan Mycological Working Group. \nBring all your mushroom questions.
URL:https://northbattlefordlibrary.com/event/mushroom-picking-for-beginners-with-donovan-thiesson/
LOCATION:North Battleford Library\, 1392 101st Street\, North Battleford\, Saskatchewan\, S9A 1A2\, Canada
CATEGORIES:Adult,Senior,teens
END:VEVENT
BEGIN:VEVENT
DTSTART;TZID=America/Regina:20220827T140000
DTEND;TZID=America/Regina:20220827T170000
DTSTAMP:20260423T062448
CREATED:20220810T201816Z
LAST-MODIFIED:20220810T201816Z
UID:3311-1661608800-1661619600@northbattlefordlibrary.com
SUMMARY:Smash Club Weekly Tournament Brackets
DESCRIPTION:Brackets start at 2:30 -remember to bring your own controller.
URL:https://northbattlefordlibrary.com/event/smash-club-weekly-tournament-brackets-14/
LOCATION:North Battleford Library\, 1392 101st Street\, North Battleford\, Saskatchewan\, S9A 1A2\, Canada
CATEGORIES:Adult,teens
END:VEVENT
BEGIN:VEVENT
DTSTART;TZID=America/Regina:20220829T150000
DTEND;TZID=America/Regina:20220829T180000
DTSTAMP:20260423T062448
CREATED:20220720T214229Z
LAST-MODIFIED:20220720T214229Z
UID:3289-1661785200-1661796000@northbattlefordlibrary.com
SUMMARY:Yu-Gi-Oh Club
DESCRIPTION:What is Yu-Gi-Oh? \nYu-Gi-Oh! is an exciting universe based on a strategy card game played with Monsters\, Spells\, and Traps. \nFind out for yourself!
URL:https://northbattlefordlibrary.com/event/yu-gi-oh-club-12/
LOCATION:North Battleford Library\, 1392 101st Street\, North Battleford\, Saskatchewan\, S9A 1A2\, Canada
CATEGORIES:Adult,teens
END:VEVENT
BEGIN:VEVENT
DTSTART;TZID=America/Regina:20220830T130000
DTEND;TZID=America/Regina:20220830T133500
DTSTAMP:20260423T062448
CREATED:20220719T231907Z
LAST-MODIFIED:20220719T231936Z
UID:3276-1661864400-1661866500@northbattlefordlibrary.com
SUMMARY:Trivia Tuesday live on Facebook @ 7:00 pm
DESCRIPTION:Join us for a live game of trivia! 15 questions\, all multiple choice. Simple to play…just type your answer number (1\,2\,3\,4)+ text in the comment section of the video.\nRemember\, it is one entry per round.
URL:https://northbattlefordlibrary.com/event/3276/
LOCATION:online
CATEGORIES:Adult,Senior,teens
ORGANIZER;CN="Lakeland Library Region":MAILTO:s.carnahan@lakeland.lib.sk.ca.
END:VEVENT
BEGIN:VEVENT
DTSTART;TZID=America/Regina:20220901T170000
DTEND;TZID=America/Regina:20220901T180000
DTSTAMP:20260423T062448
CREATED:20220802T235010Z
LAST-MODIFIED:20220927T171010Z
UID:3292-1662051600-1662055200@northbattlefordlibrary.com
SUMMARY:Book Launch-"Blue" with Miguel Fenrich
DESCRIPTION:Join us for Miguel’s debut novel “Blue” launch. \n“I was born and raised in rural (or almost rural)\, Saskatchewan\, Canada. Blessed with a homeschooled/unschooled lifestyle\, my mother has given me the opportunity to take on the world without restraint. During the Covid-19 pandemic\, I succeeded in accomplishing a dream I’ve had since the beginning of the pandemic; finishing my manuscript for BLUE .” \n-Miguel Fenrich
URL:https://northbattlefordlibrary.com/event/book-launch-blue-with-miguel-fenrich/
LOCATION:North Battleford Library\, 1392 101st Street\, North Battleford\, Saskatchewan\, S9A 1A2\, Canada
CATEGORIES:Adult,Senior,teens
END:VEVENT
BEGIN:VEVENT
DTSTART;TZID=America/Regina:20220903T140000
DTEND;TZID=America/Regina:20220903T170000
DTSTAMP:20260423T062448
CREATED:20220810T202702Z
LAST-MODIFIED:20220810T202702Z
UID:3319-1662213600-1662224400@northbattlefordlibrary.com
SUMMARY:Smash Club Weekly Tournament Brackets
DESCRIPTION:Brackets start at 2:30 -remember to bring your own controller.
URL:https://northbattlefordlibrary.com/event/smash-club-weekly-tournament-brackets-15/
LOCATION:North Battleford Library\, 1392 101st Street\, North Battleford\, Saskatchewan\, S9A 1A2\, Canada
CATEGORIES:Adult,teens
END:VEVENT
BEGIN:VEVENT
DTSTART;TZID=America/Regina:20220906T190000
DTEND;TZID=America/Regina:20220906T193500
DTSTAMP:20260423T062448
CREATED:20220810T195649Z
LAST-MODIFIED:20220810T195649Z
UID:3297-1662490800-1662492900@northbattlefordlibrary.com
SUMMARY:Trivia Tuesday live on Facebook @ 7:00 pm
DESCRIPTION:Join us for a live game of trivia! 15 questions\, all multiple choice. Simple to play…just type your answer number (1\,2\,3\,4)+ text in the comment section of the video.\nRemember\, it is one entry per round.
URL:https://northbattlefordlibrary.com/event/trivia-tuesday-live-on-facebook-700-pm-33/
LOCATION:online
CATEGORIES:Adult,Senior,teens
END:VEVENT
BEGIN:VEVENT
DTSTART;TZID=America/Regina:20220910T140000
DTEND;TZID=America/Regina:20220910T170000
DTSTAMP:20260423T062448
CREATED:20220810T202815Z
LAST-MODIFIED:20220810T202815Z
UID:3321-1662818400-1662829200@northbattlefordlibrary.com
SUMMARY:Smash Club Weekly Tournament Brackets
DESCRIPTION:Brackets start at 2:30 -remember to bring your own controller.
URL:https://northbattlefordlibrary.com/event/smash-club-weekly-tournament-brackets-16/
LOCATION:North Battleford Library\, 1392 101st Street\, North Battleford\, Saskatchewan\, S9A 1A2\, Canada
CATEGORIES:Adult,teens
END:VEVENT
BEGIN:VEVENT
DTSTART;TZID=America/Regina:20220912T150000
DTEND;TZID=America/Regina:20220912T180000
DTSTAMP:20260423T062448
CREATED:20220810T205649Z
LAST-MODIFIED:20220810T205649Z
UID:3331-1662994800-1663005600@northbattlefordlibrary.com
SUMMARY:Yu-Gi-Oh Club
DESCRIPTION:What is Yu-Gi-Oh? \nYu-Gi-Oh! is an exciting universe based on a strategy card game played with Monsters\, Spells\, and Traps. \nFind out for yourself!
URL:https://northbattlefordlibrary.com/event/yu-gi-oh-club-13/
LOCATION:North Battleford Library\, 1392 101st Street\, North Battleford\, Saskatchewan\, S9A 1A2\, Canada
CATEGORIES:Adult,Kids,teens
END:VEVENT
BEGIN:VEVENT
DTSTART;TZID=America/Regina:20220913T190000
DTEND;TZID=America/Regina:20220913T193500
DTSTAMP:20260423T062448
CREATED:20220810T195809Z
LAST-MODIFIED:20220810T195819Z
UID:3299-1663095600-1663097700@northbattlefordlibrary.com
SUMMARY:Trivia Tuesday live on Facebook @ 7:00 pm
DESCRIPTION:Join us for a live game of trivia! 15 questions\, all multiple choice. Simple to play…just type your answer number (1\,2\,3\,4)+ text in the comment section of the video.\nRemember\, it is one entry per round.
URL:https://northbattlefordlibrary.com/event/trivia-tuesday-live-on-facebook-700-pm-34/
LOCATION:online
CATEGORIES:Adult,Senior,teens
END:VEVENT
BEGIN:VEVENT
DTSTART;TZID=America/Regina:20220917T140000
DTEND;TZID=America/Regina:20220917T170000
DTSTAMP:20260423T062448
CREATED:20220810T202916Z
LAST-MODIFIED:20220810T202916Z
UID:3323-1663423200-1663434000@northbattlefordlibrary.com
SUMMARY:Smash Club Weekly Tournament Brackets
DESCRIPTION:Brackets start at 2:30 -remember to bring your own controller.
URL:https://northbattlefordlibrary.com/event/smash-club-weekly-tournament-brackets-17/
LOCATION:North Battleford Library\, 1392 101st Street\, North Battleford\, Saskatchewan\, S9A 1A2\, Canada
CATEGORIES:Adult,teens
END:VEVENT
BEGIN:VEVENT
DTSTART;TZID=America/Regina:20220920T190000
DTEND;TZID=America/Regina:20220920T193500
DTSTAMP:20260423T062448
CREATED:20220810T203124Z
LAST-MODIFIED:20220810T203124Z
UID:3325-1663700400-1663702500@northbattlefordlibrary.com
SUMMARY:Trivia Tuesday live on Facebook @ 7:00 pm
DESCRIPTION:Join us for a live game of trivia! 15 questions\, all multiple choice. Simple to play…just type your answer number (1\,2\,3\,4)+ text in the comment section of the video.\nRemember\, it is one entry per round.
URL:https://northbattlefordlibrary.com/event/trivia-tuesday-live-on-facebook-700-pm-35/
LOCATION:North Battleford Library\, 1392 101st Street\, North Battleford\, Saskatchewan\, S9A 1A2\, Canada
CATEGORIES:Adult,Senior,teens
END:VEVENT
BEGIN:VEVENT
DTSTART;TZID=America/Regina:20220924T103000
DTEND;TZID=America/Regina:20220924T160000
DTSTAMP:20260423T062448
CREATED:20220825T204113Z
LAST-MODIFIED:20220825T204113Z
UID:3356-1664015400-1664035200@northbattlefordlibrary.com
SUMMARY:Lakeland Library Region 50th Anniversary
DESCRIPTION:Celebrate our library region which began in 1972 and is still providing library services for North Battleford and the surrounding communities.
URL:https://northbattlefordlibrary.com/event/lakeland-library-region-50th-anniversary/
LOCATION:North Battleford Library\, 1392 101st Street\, North Battleford\, Saskatchewan\, S9A 1A2\, Canada
CATEGORIES:family,Kids,Senior,teens
ATTACH;FMTTYPE=image/png:https://northbattlefordlibrary.com/wp-content/uploads/2022/08/Ivory-Books-Illustration-Book-Donation-Poster-11-×-17-in-2.png
END:VEVENT
BEGIN:VEVENT
DTSTART;TZID=America/Regina:20220924T140000
DTEND;TZID=America/Regina:20220924T170000
DTSTAMP:20260423T062448
CREATED:20220810T205501Z
LAST-MODIFIED:20220810T205501Z
UID:3328-1664028000-1664038800@northbattlefordlibrary.com
SUMMARY:Smash Club Weekly Tournament Brackets
DESCRIPTION:Brackets start at 2:30 -remember to bring your own controller.
URL:https://northbattlefordlibrary.com/event/smash-club-weekly-tournament-brackets-18/
LOCATION:North Battleford Library\, 1392 101st Street\, North Battleford\, Saskatchewan\, S9A 1A2\, Canada
CATEGORIES:Adult,teens
END:VEVENT
BEGIN:VEVENT
DTSTART;TZID=America/Regina:20220927T190000
DTEND;TZID=America/Regina:20220927T193500
DTSTAMP:20260423T062448
CREATED:20220810T230921Z
LAST-MODIFIED:20220810T230921Z
UID:3337-1664305200-1664307300@northbattlefordlibrary.com
SUMMARY:Trivia Tuesday live on Facebook @ 7:00 pm
DESCRIPTION:Join us for a live game of trivia! 15 questions\, all multiple choice. Simple to play…just type your answer number (1\,2\,3\,4)+ text in the comment section of the video.\nRemember\, it is one entry per round.
URL:https://northbattlefordlibrary.com/event/trivia-tuesday-live-on-facebook-700-pm-36/
LOCATION:online
CATEGORIES:Adult,Senior,teens
END:VEVENT
BEGIN:VEVENT
DTSTART;TZID=America/Regina:20220927T190000
DTEND;TZID=America/Regina:20220927T193500
DTSTAMP:20260423T062448
CREATED:20220927T212436Z
LAST-MODIFIED:20220927T212436Z
UID:3395-1664305200-1664307300@northbattlefordlibrary.com
SUMMARY:Trivia Tuesday live on Facebook @ 7 pm
DESCRIPTION:Join us for a live game of trivia! 15 questions\, all multiple choice. Simple to play…just type your answer number (1\,2\,3\,4)+ text in the comment section of the video.\nRemember\, it is one entry per round.
URL:https://northbattlefordlibrary.com/event/trivia-tuesday-live-on-facebook-7-pm-4/
LOCATION:online
CATEGORIES:Adult,Senior,teens
END:VEVENT
BEGIN:VEVENT
DTSTART;TZID=America/Regina:20221001T140000
DTEND;TZID=America/Regina:20221001T170000
DTSTAMP:20260423T062448
CREATED:20220902T235544Z
LAST-MODIFIED:20220902T235544Z
UID:3371-1664632800-1664643600@northbattlefordlibrary.com
SUMMARY:Smash Club Weekly Tournament Brackets
DESCRIPTION:Brackets start at 2:30 -remember to bring your own controller.
URL:https://northbattlefordlibrary.com/event/smash-club-weekly-tournament-brackets-19/
LOCATION:North Battleford Library\, 1392 101st Street\, North Battleford\, Saskatchewan\, S9A 1A2\, Canada
CATEGORIES:Adult,teens
END:VEVENT
BEGIN:VEVENT
DTSTART;TZID=America/Regina:20221004T190000
DTEND;TZID=America/Regina:20221004T193500
DTSTAMP:20260423T062448
CREATED:20220927T203836Z
LAST-MODIFIED:20220927T203836Z
UID:3386-1664910000-1664912100@northbattlefordlibrary.com
SUMMARY:Trivia Tuesday live on Facebook @ 7 pm
DESCRIPTION:Join us for a live game of trivia! 15 questions\, all multiple choice. Simple to play…just type your answer number (1\,2\,3\,4)+ text in the comment section of the video.\nRemember\, it is one entry per round.
URL:https://northbattlefordlibrary.com/event/trivia-tuesday-live-on-facebook-7-pm-2/
LOCATION:North Battleford Library\, 1392 101st Street\, North Battleford\, Saskatchewan\, S9A 1A2\, Canada
CATEGORIES:Adult,Senior,teens
END:VEVENT
BEGIN:VEVENT
DTSTART;TZID=America/Regina:20221008T140000
DTEND;TZID=America/Regina:20221008T170000
DTSTAMP:20260423T062448
CREATED:20220927T234241Z
LAST-MODIFIED:20220927T234241Z
UID:3403-1665237600-1665248400@northbattlefordlibrary.com
SUMMARY:Smash Club Weekly Tournament Bracket
DESCRIPTION:Brackets start at 2:30 -remember to bring your own controller.
URL:https://northbattlefordlibrary.com/event/smash-club-weekly-tournament-bracket/
LOCATION:North Battleford Library\, 1392 101st Street\, North Battleford\, Saskatchewan\, S9A 1A2\, Canada
CATEGORIES:Adult,teens
END:VEVENT
BEGIN:VEVENT
DTSTART;TZID=America/Regina:20221011T190000
DTEND;TZID=America/Regina:20221011T193500
DTSTAMP:20260423T062448
CREATED:20220927T173009Z
LAST-MODIFIED:20220927T173009Z
UID:3384-1665514800-1665516900@northbattlefordlibrary.com
SUMMARY:Trivia Tuesday live on Facebook @ 7:00 pm
DESCRIPTION:Join us for a live game of trivia! 15 questions\, all multiple choice. Simple to play…just type your answer number (1\,2\,3\,4)+ text in the comment section of the video.\nRemember\, it is one entry per round.
URL:https://northbattlefordlibrary.com/event/trivia-tuesday-live-on-facebook-700-pm-37/
LOCATION:Saskatchewan
CATEGORIES:Adult,Senior,teens
END:VEVENT
BEGIN:VEVENT
DTSTART;TZID=America/Regina:20221015T140000
DTEND;TZID=America/Regina:20221015T170000
DTSTAMP:20260423T062448
CREATED:20220927T234540Z
LAST-MODIFIED:20220927T234540Z
UID:3406-1665842400-1665853200@northbattlefordlibrary.com
SUMMARY:Smash Club Weekly Tournament Brackets
DESCRIPTION:Brackets start at 2:30 -remember to bring your own controller.
URL:https://northbattlefordlibrary.com/event/smash-club-weekly-tournament-brackets-20/
LOCATION:North Battleford Library\, 1392 101st Street\, North Battleford\, Saskatchewan\, S9A 1A2\, Canada
CATEGORIES:Adult,teens
END:VEVENT
BEGIN:VEVENT
DTSTART;TZID=America/Regina:20221018T190000
DTEND;TZID=America/Regina:20221018T193500
DTSTAMP:20260423T062448
CREATED:20220927T212143Z
LAST-MODIFIED:20220927T212143Z
UID:3393-1666119600-1666121700@northbattlefordlibrary.com
SUMMARY:Trivia Tuesday live on Facebook @ 7 pm
DESCRIPTION:Join us for a live game of trivia! 15 questions\, all multiple choice. Simple to play…just type your answer number (1\,2\,3\,4)+ text in the comment section of the video.\nRemember\, it is one entry per round.
URL:https://northbattlefordlibrary.com/event/trivia-tuesday-live-on-facebook-7-pm-3/
LOCATION:North Battleford Library\, 1392 101st Street\, North Battleford\, Saskatchewan\, S9A 1A2\, Canada
CATEGORIES:Adult,Senior,teens
END:VEVENT
BEGIN:VEVENT
DTSTART;VALUE=DATE:20221019
DTEND;VALUE=DATE:20221020
DTSTAMP:20260423T062448
CREATED:20220927T172716Z
LAST-MODIFIED:20220927T204218Z
UID:3382-1666137600-1666223999@northbattlefordlibrary.com
SUMMARY:Patron Appreciation Day October 19
DESCRIPTION:Help us celebrate “You” \nwith refreshments and munchies for adults and kids alike. \nGoodies bags for kids ! \nProudly serving North Battleford and surrounding communities since 1916.
URL:https://northbattlefordlibrary.com/event/patron-appreciation-day/
LOCATION:Saskatchewan
CATEGORIES:Adult,family,Kids,Senior,teens
END:VEVENT
BEGIN:VEVENT
DTSTART;TZID=America/Regina:20221022T140000
DTEND;TZID=America/Regina:20221022T170000
DTSTAMP:20260423T062448
CREATED:20220927T234748Z
LAST-MODIFIED:20220927T234748Z
UID:3408-1666447200-1666458000@northbattlefordlibrary.com
SUMMARY:Smash Club Weekly Tournament Brackets
DESCRIPTION:Brackets start at 2:30 -remember to bring your own controller.
URL:https://northbattlefordlibrary.com/event/smash-club-weekly-tournament-brackets-21/
LOCATION:North Battleford Library\, 1392 101st Street\, North Battleford\, Saskatchewan\, S9A 1A2\, Canada
CATEGORIES:Adult,teens
END:VEVENT
BEGIN:VEVENT
DTSTART;TZID=America/Regina:20221029T140000
DTEND;TZID=America/Regina:20221029T170000
DTSTAMP:20260423T062448
CREATED:20220927T234904Z
LAST-MODIFIED:20220927T234904Z
UID:3410-1667052000-1667062800@northbattlefordlibrary.com
SUMMARY:Smash Club Weekly Tournament Brackets
DESCRIPTION:Brackets start at 2:30 -remember to bring your own controller.
URL:https://northbattlefordlibrary.com/event/smash-club-weekly-tournament-brackets-22/
LOCATION:North Battleford Library\, 1392 101st Street\, North Battleford\, Saskatchewan\, S9A 1A2\, Canada
CATEGORIES:Adult,teens
END:VEVENT
BEGIN:VEVENT
DTSTART;TZID=America/Regina:20221101T190000
DTEND;TZID=America/Regina:20221101T193500
DTSTAMP:20260423T062448
CREATED:20221013T234803Z
LAST-MODIFIED:20221014T223343Z
UID:3439-1667329200-1667331300@northbattlefordlibrary.com
SUMMARY:Trivia Tuesday live on Facebook @ 7 pm
DESCRIPTION:Join us for a live game of trivia! 15 questions\, all multiple choice. Simple to play…just type your answer number (1\,2\,3\,4)+ text in the comment section of the video.\nRemember\, it is one entry per round.
URL:https://northbattlefordlibrary.com/event/trivia-tuesday-live-on-facebook-700-pm-38/
LOCATION:online
CATEGORIES:Adult,Senior,teens
END:VEVENT
BEGIN:VEVENT
DTSTART;TZID=America/Regina:20221105T140000
DTEND;TZID=America/Regina:20221105T170000
DTSTAMP:20260423T062448
CREATED:20221013T234347Z
LAST-MODIFIED:20221013T234347Z
UID:3433-1667656800-1667667600@northbattlefordlibrary.com
SUMMARY:Smash Club Weekly Tournament Brackets
DESCRIPTION:Brackets start at 2:30 -remember to bring your own controller.
URL:https://northbattlefordlibrary.com/event/smash-club-weekly-tournament-brackets-23/
LOCATION:North Battleford Library\, 1392 101st Street\, North Battleford\, Saskatchewan\, S9A 1A2\, Canada
CATEGORIES:Adult,teens
END:VEVENT
BEGIN:VEVENT
DTSTART;TZID=America/Regina:20221108T190000
DTEND;TZID=America/Regina:20221108T193500
DTSTAMP:20260423T062448
CREATED:20221014T223255Z
LAST-MODIFIED:20221014T223255Z
UID:3446-1667934000-1667936100@northbattlefordlibrary.com
SUMMARY:Trivia Tuesday live on Facebook @ 7 pm
DESCRIPTION:Join us for a live game of trivia! 15 questions\, all multiple choice. Simple to play…just type your answer number (1\,2\,3\,4)+ text in the comment section of the video.\nRemember\, it is one entry per round.
URL:https://northbattlefordlibrary.com/event/trivia-tuesday-live-on-facebook-7-pm-5/
LOCATION:online
CATEGORIES:Adult,Senior,teens
END:VEVENT
BEGIN:VEVENT
DTSTART;TZID=America/Regina:20221108T190000
DTEND;TZID=America/Regina:20221108T203000
DTSTAMP:20260423T062448
CREATED:20221025T214615Z
LAST-MODIFIED:20221025T214805Z
UID:3456-1667934000-1667939400@northbattlefordlibrary.com
SUMMARY:Author Todd Leader-"It's Not About Us"
DESCRIPTION:How do we know if we’re guilty of stigma? \nIn this presentation\, Todd Leader will give us a preview of his next book\, by telling the unimaginable story of a medication-induced mental illness and the resulting harm that judgement and stigma played in wreaking havoc on his life. \nA special thanks to Battle River Treaty 6 Health Centre who has made this possible.
URL:https://northbattlefordlibrary.com/event/author-todd-leader-its-not-about-us/
LOCATION:North Battleford Library\, 1392 101st Street\, North Battleford\, Saskatchewan\, S9A 1A2\, Canada
CATEGORIES:Adult,book reading,Senior,teens
END:VEVENT
BEGIN:VEVENT
DTSTART;TZID=America/Regina:20221112T140000
DTEND;TZID=America/Regina:20221112T170000
DTSTAMP:20260423T062448
CREATED:20221025T215015Z
LAST-MODIFIED:20221025T215015Z
UID:3460-1668261600-1668272400@northbattlefordlibrary.com
SUMMARY:Smash Club Weekly Tournament Brackets
DESCRIPTION:Brackets start at 2:30 -remember to bring your own controller.
URL:https://northbattlefordlibrary.com/event/smash-club-weekly-tournament-brackets-24/
LOCATION:North Battleford Library\, 1392 101st Street\, North Battleford\, Saskatchewan\, S9A 1A2\, Canada
CATEGORIES:Adult,teens
END:VEVENT
END:VCALENDAR