BEGIN:VCALENDAR
VERSION:2.0
PRODID:-//North Battleford Public Library - ECPv6.15.20//NONSGML v1.0//EN
CALSCALE:GREGORIAN
METHOD:PUBLISH
X-ORIGINAL-URL:https://northbattlefordlibrary.com
X-WR-CALDESC:Events for North Battleford Public Library
REFRESH-INTERVAL;VALUE=DURATION:PT1H
X-Robots-Tag:noindex
X-PUBLISHED-TTL:PT1H
BEGIN:VTIMEZONE
TZID:America/Regina
BEGIN:STANDARD
TZOFFSETFROM:-0600
TZOFFSETTO:-0600
TZNAME:CST
DTSTART:20230101T000000
END:STANDARD
END:VTIMEZONE
BEGIN:VEVENT
DTSTART;TZID=America/Regina:20241221T130000
DTEND;TZID=America/Regina:20241221T143000
DTSTAMP:20260423T063611
CREATED:20241122T151342Z
LAST-MODIFIED:20241129T175546Z
UID:5387-1734786000-1734791400@northbattlefordlibrary.com
SUMMARY:Family Movie “Wonka”
DESCRIPTION:Join us for a magical movie experience with Wonka! Step into the whimsical world of Willy Wonka before he became the famous chocolatier. This heartwarming and colorful adventure is filled with imagination\, music\, and all the sweetness of a story that’s perfect for the whole family. \nBring your family\, snacks\, and get ready to explore the world of chocolate and wonder! 🍫
URL:https://northbattlefordlibrary.com/event/family-movie-wonka/
LOCATION:North Battleford Library\, 1392 101st Street\, North Battleford\, Saskatchewan\, S9A 1A2\, Canada
END:VEVENT
BEGIN:VEVENT
DTSTART;TZID=America/Regina:20241221T150000
DTEND;TZID=America/Regina:20241221T153000
DTSTAMP:20260423T063611
CREATED:20241129T180559Z
LAST-MODIFIED:20241129T180559Z
UID:5496-1734793200-1734795000@northbattlefordlibrary.com
SUMMARY:Shadow Theater “The Nutcracker”
DESCRIPTION:✨ Step into a world of holiday magic with our Shadow Theater performance of “The Nutcracker”! ✨ \nJoin us for a journey through the classic tale of The Nutcracker. Watch as Clara’s enchanting adventure unfolds through the magic of light and shadow. From the Nutcracker Prince to the Mouse King\, see how these beloved characters come to life in a whole new way! \n🌟 What to Expect: \n\nEnjoy a captivating shadow puppet show of The Nutcracker.\nExperience the holiday magic and wonder of this timeless story in a new\, creative format.\n\n🎄 Perfect for kids from 3 to 7! Celebrate the season with this enchanting and interactive shadow theater performance.
URL:https://northbattlefordlibrary.com/event/shadow-theater-the-nutcracker/
LOCATION:North Battleford Library\, 1392 101st Street\, North Battleford\, Saskatchewan\, S9A 1A2\, Canada
END:VEVENT
BEGIN:VEVENT
DTSTART;TZID=America/Regina:20241221T160000
DTEND;TZID=America/Regina:20241221T180000
DTSTAMP:20260423T063611
CREATED:20241129T181909Z
LAST-MODIFIED:20241129T181909Z
UID:5510-1734796800-1734804000@northbattlefordlibrary.com
SUMMARY:Art Club (13+) Candle Holder Christmas Jar
DESCRIPTION:🕯️ Get into the holiday spirit with a fun painting project! 🎨 \nJoin us to create a beautiful painted Christmas candle jar that will add a warm\, festive glow to your home this season. \n✨ What to Expect: \n\nAll supplies included—we’ll provide everything you need to paint your very own Christmas candle jar.\nStep-by-step guidance to help you create a unique\, holiday-inspired design.\nJust bring your holiday spirit and creativity!\n\n🎄 Spots are limited! We have 12 spots available for this class\, so make sure to come on time.
URL:https://northbattlefordlibrary.com/event/art-club-13-candle-holder-christmas-jar/
LOCATION:North Battleford Library\, 1392 101st Street\, North Battleford\, Saskatchewan\, S9A 1A2\, Canada
END:VEVENT
BEGIN:VEVENT
DTSTART;VALUE=DATE:20241224
DTEND;VALUE=DATE:20241225
DTSTAMP:20260423T063611
CREATED:20241129T171626Z
LAST-MODIFIED:20241129T171626Z
UID:5420-1734998400-1735084799@northbattlefordlibrary.com
SUMMARY:Library closes early at 4:00 PM
DESCRIPTION:
URL:https://northbattlefordlibrary.com/event/library-closes-early-at-400-pm/
END:VEVENT
BEGIN:VEVENT
DTSTART;VALUE=DATE:20241225
DTEND;VALUE=DATE:20241226
DTSTAMP:20260423T063611
CREATED:20241115T143552Z
LAST-MODIFIED:20241115T143552Z
UID:5348-1735084800-1735171199@northbattlefordlibrary.com
SUMMARY:Closed for Christmas Day
DESCRIPTION:
URL:https://northbattlefordlibrary.com/event/closed-for-christmas-day/
LOCATION:North Battleford Library\, 1392 101st Street\, North Battleford\, Saskatchewan\, S9A 1A2\, Canada
END:VEVENT
BEGIN:VEVENT
DTSTART;VALUE=DATE:20241226
DTEND;VALUE=DATE:20241227
DTSTAMP:20260423T063611
CREATED:20241115T180829Z
LAST-MODIFIED:20241115T180829Z
UID:5351-1735171200-1735257599@northbattlefordlibrary.com
SUMMARY:Closed for Boxing Day
DESCRIPTION:Happy Boxing Day!
URL:https://northbattlefordlibrary.com/event/closed-for-boxing-day/
LOCATION:North Battleford Library\, 1392 101st Street\, North Battleford\, Saskatchewan\, S9A 1A2\, Canada
END:VEVENT
BEGIN:VEVENT
DTSTART;TZID=America/Regina:20241227T180000
DTEND;TZID=America/Regina:20241227T200000
DTSTAMP:20260423T063611
CREATED:20241129T173656Z
LAST-MODIFIED:20241227T181631Z
UID:5462-1735322400-1735329600@northbattlefordlibrary.com
SUMMARY:Cancelled - Dungeons & Dragons  (for age 12+)
DESCRIPTION:Dungeons & Dragons program is cancelled.
URL:https://northbattlefordlibrary.com/event/dungeons-dragons-for-age-12-9/
LOCATION:North Battleford Library\, 1392 101st Street\, North Battleford\, Saskatchewan\, S9A 1A2\, Canada
END:VEVENT
BEGIN:VEVENT
DTSTART;TZID=America/Regina:20241228T110000
DTEND;TZID=America/Regina:20241228T120000
DTSTAMP:20260423T063611
CREATED:20241129T175115Z
LAST-MODIFIED:20241129T175232Z
UID:5481-1735383600-1735387200@northbattlefordlibrary.com
SUMMARY:Storytime&Craft  Paper Snowflakes Craft & “Night Before New Year’s” book
DESCRIPTION:🎉 Ring in the New Year with us! 🎉 \n📖 Storytime: “Night Before New Year’s” Enjoy this charming story about kids who are on a mission to stay awake and greet the New Year. Will they succeed\, or will sleep sneak up on them? Find out in this delightful tale! \n❄️ Craft Time: Paper Snowflakes After the story\, let your creativity shine as you create beautiful paper snowflakes to celebrate the winter season. \n🌟 Perfect for kids from 3 to 7! Come for the story\, stay for the craft\, and kick off the New Year with some fun!
URL:https://northbattlefordlibrary.com/event/storytimecraft-paper-snowflakes-craft-night-before-new-years-book/
LOCATION:North Battleford Library\, 1392 101st Street\, North Battleford\, Saskatchewan\, S9A 1A2\, Canada
END:VEVENT
BEGIN:VEVENT
DTSTART;TZID=America/Regina:20241228T130000
DTEND;TZID=America/Regina:20241228T143000
DTSTAMP:20260423T063611
CREATED:20241122T151550Z
LAST-MODIFIED:20241122T151550Z
UID:5390-1735390800-1735396200@northbattlefordlibrary.com
SUMMARY:Family Movie “Home Alone 2”
DESCRIPTION:Get ready for another round of holiday mischief with Home Alone 2: Lost in New York! Join us for this festive adventure as Kevin McCallister once again finds himself on his own—this time in the big city—while outsmarting the same burglars in even more creative ways! \nBring the whole family\, your favorite snacks\, and get ready for more laughs and holiday fun!
URL:https://northbattlefordlibrary.com/event/family-movie-home-alone-2/
LOCATION:North Battleford Library\, 1392 101st Street\, North Battleford\, Saskatchewan\, S9A 1A2\, Canada
END:VEVENT
BEGIN:VEVENT
DTSTART;TZID=America/Regina:20241228T150000
DTEND;TZID=America/Regina:20241228T153000
DTSTAMP:20260423T063611
CREATED:20241129T180902Z
LAST-MODIFIED:20241129T180902Z
UID:5499-1735398000-1735399800@northbattlefordlibrary.com
SUMMARY:Shadow Theater “The Mitten”
DESCRIPTION:❄️ Experience the winter magic of shadow theater! ❄️ \nBring your kids to the library for an enchanting performance of the beloved Ukrainian fairy tale\, The Mitten! Watch as the animals try to fit into a tiny mitten in this fun and heartwarming story\, brought to life through the magic of shadows. \n🌟 What to Expect: \n\nEnjoy a captivating shadow theater performance of The Mitten\, where a growing number of animals squeeze into a small mitten!\nSee how the story unfolds with the magic of shadow puppetry\, creating a unique and interactive experience.\nCreate your very own shadow puppet!\n\n🎄 Perfect for families and children from 3 to 7! Celebrate the winter season with this creative and imaginative performance.
URL:https://northbattlefordlibrary.com/event/shadow-theater-the-mitten/
LOCATION:North Battleford Library\, 1392 101st Street\, North Battleford\, Saskatchewan\, S9A 1A2\, Canada
END:VEVENT
BEGIN:VEVENT
DTSTART;TZID=America/Regina:20241228T160000
DTEND;TZID=America/Regina:20241228T180000
DTSTAMP:20260423T063611
CREATED:20241129T182300Z
LAST-MODIFIED:20241129T182300Z
UID:5513-1735401600-1735408800@northbattlefordlibrary.com
SUMMARY:Art Club (13+) New Year’s Resolutions Vision Boards
DESCRIPTION:🎨 Start the New Year with creativity and intention! ✨ \nJoin us for a fun and reflective Art Club session where you’ll create your own Vision Board using collage techniques! This is the perfect opportunity to reflect on your goals\, dreams\, and resolutions for the upcoming year through art. \n🌟 What to Expect: \n\nCreate your own vision board by exploring different materials.\nReflect on your inner world and set meaningful goals for the year ahead.\nExpress your intentions visually as you cut\, paste\, and design your unique board.\n\n🖌️ For ages 13+—whether you’re new to collage or an experienced artist\, this session is perfect for anyone looking to set creative\, personal goals for the new year. \nAll materials provided\, but if you want to add more personality to your collage you can bring your own photos!
URL:https://northbattlefordlibrary.com/event/art-club-13-new-years-resolutions-vision-boards/
LOCATION:North Battleford Library\, 1392 101st Street\, North Battleford\, Saskatchewan\, S9A 1A2\, Canada
END:VEVENT
BEGIN:VEVENT
DTSTART;VALUE=DATE:20241231
DTEND;VALUE=DATE:20250101
DTSTAMP:20260423T063611
CREATED:20241129T171642Z
LAST-MODIFIED:20241129T171642Z
UID:5422-1735603200-1735689599@northbattlefordlibrary.com
SUMMARY:Library closes early at 4:00 PM
DESCRIPTION:
URL:https://northbattlefordlibrary.com/event/library-closes-early-at-400-pm-2/
END:VEVENT
BEGIN:VEVENT
DTSTART;VALUE=DATE:20250101
DTEND;VALUE=DATE:20250102
DTSTAMP:20260423T063611
CREATED:20241227T174648Z
LAST-MODIFIED:20241227T174648Z
UID:5556-1735689600-1735775999@northbattlefordlibrary.com
SUMMARY:Closed
DESCRIPTION:Happy New Year!
URL:https://northbattlefordlibrary.com/event/closed-7/
END:VEVENT
BEGIN:VEVENT
DTSTART;TZID=America/Regina:20250102T180000
DTEND;TZID=America/Regina:20250102T200000
DTSTAMP:20260423T063611
CREATED:20241227T184725Z
LAST-MODIFIED:20241227T184725Z
UID:5586-1735840800-1735848000@northbattlefordlibrary.com
SUMMARY:Boardgame Club
DESCRIPTION:Board Game Night at the Library 🎲 \nLooking for a fun\, relaxing evening? Join us at the library for Board Game Night! Whether you’re a board game enthusiast or just curious to try something new\, everyone is welcome to join the fun. \nNo registration is required—just show up\, pick a game\, and enjoy!
URL:https://northbattlefordlibrary.com/event/boardgame-club-7/
LOCATION:North Battleford Library\, 1392 101st Street\, North Battleford\, Saskatchewan\, S9A 1A2\, Canada
END:VEVENT
BEGIN:VEVENT
DTSTART;TZID=America/Regina:20250104T110000
DTEND;TZID=America/Regina:20250104T120000
DTSTAMP:20260423T063611
CREATED:20241227T193221Z
LAST-MODIFIED:20241227T194752Z
UID:5605-1735988400-1735992000@northbattlefordlibrary.com
SUMMARY:Storytime&Craft  Magnet Fishing Craft & “A Fish Out of Water” book
DESCRIPTION:🐟 Dive Into a Big Fish Adventure! 🐟 \nThink fish are easy pets? Think again! A little boy discovers that feeding his fish just a little too much can make it grow HUGE – way too big for its bowl\, sink\, or even the bathtub! What will he do to save his growing fishy friend? 🐠💦 \nCome to the library to find out! And guess what? After the story\, you’ll get to make your very own magnet fishing craft! \nCome join the splash-tastic fun at the library! 🐟\n \nPerfect for families and kids ages 3-7!
URL:https://northbattlefordlibrary.com/event/storytimecraft-magnet-fishing-craft-a-fish-out-of-water-book/
LOCATION:North Battleford Library\, 1392 101st Street\, North Battleford\, Saskatchewan\, S9A 1A2\, Canada
END:VEVENT
BEGIN:VEVENT
DTSTART;TZID=America/Regina:20250104T130000
DTEND;TZID=America/Regina:20250104T143000
DTSTAMP:20260423T063611
CREATED:20241227T195704Z
LAST-MODIFIED:20241227T195704Z
UID:5628-1735995600-1736001000@northbattlefordlibrary.com
SUMMARY:Family Movie “Monster Trucks”
DESCRIPTION:🎬 Family Movie: “Monster Trucks” 🚗💨 \nGet ready for an action-packed movie night the whole family will enjoy! Join us for a screening of Monster Trucks\, where a high school student and a monster creature form an unlikely friendship to escape from a dangerous situation. With epic truck stunts\, heart-pumping action\, and lots of laughs\, this movie is sure to entertain kids and adults alike! \n🍿 Perfect for Families!\nThis movie is great for kids and families of all ages. Don’t miss out on a fun-filled movie experience!
URL:https://northbattlefordlibrary.com/event/family-movie-monster-trucks/
LOCATION:North Battleford Library\, 1392 101st Street\, North Battleford\, Saskatchewan\, S9A 1A2\, Canada
END:VEVENT
BEGIN:VEVENT
DTSTART;TZID=America/Regina:20250104T150000
DTEND;TZID=America/Regina:20250104T154500
DTSTAMP:20260423T063611
CREATED:20241227T201529Z
LAST-MODIFIED:20241227T201529Z
UID:5659-1736002800-1736005500@northbattlefordlibrary.com
SUMMARY:Shadow Theater  “The Snow Queen”
DESCRIPTION:❄️ Shadow Theater: “The Snow Queen” ❄️ \nThe Snow Queen is back\, and this time\, her icy grip threatens to separate two best friends. Watch as Gerda embarks on a magical journey to rescue her friend Kai\, who’s been captured by the powerful Snow Queen! Will she succeed in her mission\, or will the cold-hearted queen freeze their friendship forever? Come to the library to see if Gerda can save Kai in this enchanting shadow theater performance! \n🌟 What to Expect: \n\nWatch as the story of The Snow Queen unfolds through an engaging shadow theater performance\, bringing this classic fairy tale to life in a magical and interactive way.\nCreate your own shadow puppet and test it on our projector.\nEnjoy playtime with shadow puppets and tell your own story!\n\n🎉 Perfect for families with kids from 3 to 7! Get ready for a creative\, magical experience with this stunning shadow puppet show. \n 
URL:https://northbattlefordlibrary.com/event/shadow-theater-the-snow-queen-2/
LOCATION:North Battleford Library\, 1392 101st Street\, North Battleford\, Saskatchewan\, S9A 1A2\, Canada
END:VEVENT
BEGIN:VEVENT
DTSTART;TZID=America/Regina:20250104T160000
DTEND;TZID=America/Regina:20250104T174500
DTSTAMP:20260423T063611
CREATED:20241227T202942Z
LAST-MODIFIED:20241227T202942Z
UID:5676-1736006400-1736012700@northbattlefordlibrary.com
SUMMARY:Art Class (13+) Coffee Painting
DESCRIPTION:🎨 Art Class (13+): Coffee Painting ☕ \nLooking for a fun way to spend time with friends and try something new? Come join us for a unique art class where we’ll learn how to paint on watercolor paper using coffee of different shades! Discover the beauty of this creative technique\, explore some amazing artwork made with coffee\, and enjoy a relaxing and fun time together. \n🌟 What to Expect: \n\nLearn how to create art using coffee as your paint!\nExplore different shades of coffee and experiment with this fun\, creative medium.\nEnjoy time with friends\, relax\, and discover your artistic side!\n\n🎉 This event is for teens and adults (13+)\, and it’s absolutely free!\nDon’t miss out on this exciting and unique opportunity! Join us at the library for a fun coffee painting experience.
URL:https://northbattlefordlibrary.com/event/art-class-13-coffee-painting/
LOCATION:North Battleford Library\, 1392 101st Street\, North Battleford\, Saskatchewan\, S9A 1A2\, Canada
END:VEVENT
BEGIN:VEVENT
DTSTART;TZID=America/Regina:20250107T180000
DTEND;TZID=America/Regina:20250107T190000
DTSTAMP:20260423T063611
CREATED:20241227T172913Z
LAST-MODIFIED:20241227T172913Z
UID:5533-1736272800-1736276400@northbattlefordlibrary.com
SUMMARY:LEGO Club STEM Challenge - Disaster Strikes
DESCRIPTION:LEGO Club: Creative Survival Challenge! \nGet ready for a fun and imaginative STEM session at LEGO Club! \nKids will have the first 30 minutes to build whatever their hearts desire with LEGO bricks. Then\, the adventure begins! They’ll draw a random scenario from the “Disaster Bucket” and face the challenge of coming up with a creative solution to survive. \nThis engaging activity encourages imagination\, teamwork\, and problem-solving skills while having tons of fun. Perfect for LEGO enthusiasts and little builders ready for an exciting challenge! \nDon’t miss out—join us and build your way to survival!
URL:https://northbattlefordlibrary.com/event/lego-club-stem-challenge-disaster-strikes/
LOCATION:North Battleford Library\, 1392 101st Street\, North Battleford\, Saskatchewan\, S9A 1A2\, Canada
END:VEVENT
BEGIN:VEVENT
DTSTART;TZID=America/Regina:20250108T180000
DTEND;TZID=America/Regina:20250108T203000
DTSTAMP:20260423T063611
CREATED:20241227T174541Z
LAST-MODIFIED:20241227T174541Z
UID:5548-1736359200-1736368200@northbattlefordlibrary.com
SUMMARY:Movie Night “Furiosa”
DESCRIPTION:Join us for an action-packed movie night featuring Furiosa!  \nExperience the thrilling prequel to Mad Max: Fury Road and dive into the origin story of one of the most iconic characters in the wasteland. Don’t miss this epic adventure on the big screen!
URL:https://northbattlefordlibrary.com/event/movie-night-furiosa/
LOCATION:North Battleford Library\, 1392 101st Street\, North Battleford\, Saskatchewan\, S9A 1A2\, Canada
END:VEVENT
BEGIN:VEVENT
DTSTART;TZID=America/Regina:20250108T190000
DTEND;TZID=America/Regina:20250108T200000
DTSTAMP:20260423T063611
CREATED:20241227T181227Z
LAST-MODIFIED:20241227T181227Z
UID:5570-1736362800-1736366400@northbattlefordlibrary.com
SUMMARY:Book Club for Parents “Hunt\, Gather\, Parent”
DESCRIPTION:Are you struggling with parenting challenges like power struggles\, tantrums\, defiance? \nJoin the Hunt\, Gather\, Parent Book Club\, inspired by Michaeleen Doucleff’s New York Times bestseller\, Hunt\, Gather\, Parent: What Ancient Cultures Can Teach Us About the Lost Art of Raising Happy\, Helpful Little Humans. \nIn this supportive and insightful group\, you’ll: \n\nLearn techniques to avoid tantrums.\nDiscover ways to dissolve power struggles.\nShare your successes and fails.\nTroubleshoot common parenting challenges with a group of like-minded parents.\n\n🗓️ Dates: January 8th\, 15th\, 22nd\, and 29th\n⏰ Time: 7:00 PM\n📍 Location: North Battleford Library \nLet’s explore how ancient wisdom can help modern parents foster happier and more cooperative children. Don’t miss this chance to connect\, learn\, and grow!
URL:https://northbattlefordlibrary.com/event/book-club-for-parents-hunt-gather-parent/
LOCATION:North Battleford Library\, 1392 101st Street\, North Battleford\, Saskatchewan\, S9A 1A2\, Canada
END:VEVENT
BEGIN:VEVENT
DTSTART;TZID=America/Regina:20250109T103000
DTEND;TZID=America/Regina:20250109T160000
DTSTAMP:20260423T063611
CREATED:20241227T185426Z
LAST-MODIFIED:20241227T185426Z
UID:5600-1736418600-1736438400@northbattlefordlibrary.com
SUMMARY:Rapid Access Counselling
DESCRIPTION:We are pleased to offer free counseling services to individuals\, families\, couples\, and children at the North Battleford Library. This is a peaceful\, confidential space where you can talk about personal challenges and find support. Experienced counselors are here to listen\, offer guidance\, and help you navigate your journey toward healing and growth. \nAreas of Support Include:\n\nRelationships & Family Dynamics\nViolence & Abuse\nPersonal Growth & Enrichment\nDepression & Anxiety\nSeparation & Divorce\nEating Disorders\nGrief & Loss\nParenting Challenges\nAddictions\nTrauma & Resolution\n\nWhether you’re seeking guidance for personal struggles or support in navigating complex family issues\, counselors are here to provide compassionate and professional help. No problem is too big or too small to seek support for.
URL:https://northbattlefordlibrary.com/event/rapid-access-counselling-5/
LOCATION:North Battleford Library\, 1392 101st Street\, North Battleford\, Saskatchewan\, S9A 1A2\, Canada
END:VEVENT
BEGIN:VEVENT
DTSTART;TZID=America/Regina:20250109T180000
DTEND;TZID=America/Regina:20250109T200000
DTSTAMP:20260423T063611
CREATED:20241227T184849Z
LAST-MODIFIED:20241227T184849Z
UID:5589-1736445600-1736452800@northbattlefordlibrary.com
SUMMARY:Boardgame Club
DESCRIPTION:Board Game Night at the Library 🎲 \nLooking for a fun\, relaxing evening? Join us at the library for Board Game Night! Whether you’re a board game enthusiast or just curious to try something new\, everyone is welcome to join the fun. \nNo registration is required—just show up\, pick a game\, and enjoy!
URL:https://northbattlefordlibrary.com/event/boardgame-club-8/
LOCATION:North Battleford Library\, 1392 101st Street\, North Battleford\, Saskatchewan\, S9A 1A2\, Canada
END:VEVENT
BEGIN:VEVENT
DTSTART;TZID=America/Regina:20250111T110000
DTEND;TZID=America/Regina:20250111T120000
DTSTAMP:20260423T063611
CREATED:20241227T193839Z
LAST-MODIFIED:20241227T194835Z
UID:5617-1736593200-1736596800@northbattlefordlibrary.com
SUMMARY:Storytime&Craft  Paper Cup Penguin Craft & “Little Penguin and the Lollipop” book
DESCRIPTION:🐧 Help Little Penguin Save the Day! 🐧 \nOh no! Little Penguin has a BIG problem – his friend Kenneth is upset because Little Penguin ate Kenneth’s deliciously yummy razzle dazzle seaweed lollipop! 😱 Little Penguin has tried everything to make it right\, but nothing seems to help – not even a hug! Can YOU help Little Penguin fix things and make Kenneth smile again? \nJoin us for this heartwarming story full of fun! After the adventure\, you’ll get to make a fun penguin toy to take home!🎨 \nCome to the library and help Little Penguin save the day – and bring home your very own penguin friend! \n🐧 Best for families and kids ages 3-7!
URL:https://northbattlefordlibrary.com/event/storytimecraft-paper-cup-penguin-craft-little-penguin-and-the-lollipop-book/
LOCATION:North Battleford Library\, 1392 101st Street\, North Battleford\, Saskatchewan\, S9A 1A2\, Canada
END:VEVENT
BEGIN:VEVENT
DTSTART;TZID=America/Regina:20250111T130000
DTEND;TZID=America/Regina:20250111T143000
DTSTAMP:20260423T063611
CREATED:20241227T200300Z
LAST-MODIFIED:20241227T200743Z
UID:5648-1736600400-1736605800@northbattlefordlibrary.com
SUMMARY:Family Movie “Ballerina”
DESCRIPTION:🎬 Family Movie: “Ballerina” 🩰 \nJoin us for a heartwarming and inspiring movie that’s perfect for the whole family! Ballerina tells the story of a young orphan girl who dreams of becoming a ballet dancer. 🩰 With determination and hard work\, she sets off on a journey to Paris to make her dreams come true! 🌟 \n🍿 Perfect for Families!\nThis beautifully animated movie is filled with dance\, friendship\, and chasing your dreams\, making it a delightful experience for kids and adults.
URL:https://northbattlefordlibrary.com/event/family-movie-ballerina/
LOCATION:North Battleford Library\, 1392 101st Street\, North Battleford\, Saskatchewan\, S9A 1A2\, Canada
END:VEVENT
BEGIN:VEVENT
DTSTART;TZID=America/Regina:20250111T150000
DTEND;TZID=America/Regina:20250111T154500
DTSTAMP:20260423T063611
CREATED:20241227T201928Z
LAST-MODIFIED:20241227T201928Z
UID:5664-1736607600-1736610300@northbattlefordlibrary.com
SUMMARY:Shadow Theater “Kolobok” - the story about a little bun.
DESCRIPTION:Shadow Theater: “Kolobok”\n \nJoin us for a fun and exciting shadow theater performance of Kolobok\, a Ukrainian folk story of a little bun who came to life and ran away from the granny who baked him! Watch as Kolobok outsmarts every animal in the forest – but will he be able to avoid trouble when he meets the sly Miss Fox? Come to the library to find out what happens in this fun and clever story! \n🌟 What to Expect: \n\nEnjoy the magical world of Kolobok as it comes to life through shadow theater\, where you’ll see the adventures of the little bun unfold with interactive shadow puppets.\nSee Kolobok’s clever tricks as he escapes from the wolf\, the bear\, and other forest animals—until he meets his match with Miss Fox!\nCreate your own puppet and enjoy playtime with light and shadow!\n\n🎉 Perfect for families with kids from 3 to 7! Enjoy this delightful tale filled with adventure\, cleverness\, and a little bit of mischief!
URL:https://northbattlefordlibrary.com/event/shadow-theater-kolobok-the-story-about-a-little-bun/
LOCATION:North Battleford Library\, 1392 101st Street\, North Battleford\, Saskatchewan\, S9A 1A2\, Canada
END:VEVENT
BEGIN:VEVENT
DTSTART;TZID=America/Regina:20250111T160000
DTEND;TZID=America/Regina:20250111T174500
DTSTAMP:20260423T063611
CREATED:20241227T203152Z
LAST-MODIFIED:20241227T203230Z
UID:5680-1736611200-1736617500@northbattlefordlibrary.com
SUMMARY:Art Class (13+) Texture Art - Papier Mache on Canvas
DESCRIPTION:🎨 Art Class (13+): Texture Art – Papier Mâché on Canvas 🖼️ \nLooking for a fun and relaxing art project? Join us for a creative class where we’ll explore the art of textured painting using papier mâché on canvas! Learn how to turn paper into pulp and use it to create beautiful\, one-of-a-kind artwork. Whether you’re a beginner or experienced artist\, this class is perfect for anyone wanting to try something new. \n🌟 What to Expect: \n\nLearn how to create textured artwork using papier mâché on canvas.\nRelax and have fun while creating something beautiful to take home!\n\n🎉 This event is for teens and adults (13+)\, and there are only 12 spots available\, so be sure to come on time to secure your place!\nDon’t miss out on this creative opportunity – join us at the library for a fun\, hands-on art experience!
URL:https://northbattlefordlibrary.com/event/art-class-13-texture-art-papier-mache-on-canvas/
LOCATION:North Battleford Library\, 1392 101st Street\, North Battleford\, Saskatchewan\, S9A 1A2\, Canada
END:VEVENT
BEGIN:VEVENT
DTSTART;TZID=America/Regina:20250114T180000
DTEND;TZID=America/Regina:20250114T190000
DTSTAMP:20260423T063611
CREATED:20241227T173157Z
LAST-MODIFIED:20241227T173157Z
UID:5538-1736877600-1736881200@northbattlefordlibrary.com
SUMMARY:LEGO Club - STEM Challenge - Drop Test
DESCRIPTION:LEGO Drop Challenge: Test Your Engineering Skills! \nAre you ready for the ultimate LEGO engineering test? Join us for a hands-on challenge where you’ll use just 20 LEGO pieces to design and build a creation tough enough to survive a drop without falling apart. \nThis activity is a fantastic way to unleash your creativity\, develop problem-solving skills\, and learn about structural integrity—all while having loads of fun! \nThink you can take on the challenge? Bring your best ideas and see if your build can withstand the fall!
URL:https://northbattlefordlibrary.com/event/lego-club-stem-challenge-drop-test/
LOCATION:North Battleford Library\, 1392 101st Street\, North Battleford\, Saskatchewan\, S9A 1A2\, Canada
END:VEVENT
BEGIN:VEVENT
DTSTART;TZID=America/Regina:20250115T170000
DTEND;TZID=America/Regina:20250115T203000
DTSTAMP:20260423T063611
CREATED:20241227T175950Z
LAST-MODIFIED:20241227T200000Z
UID:5558-1736960400-1736973000@northbattlefordlibrary.com
SUMMARY:Movie Night “Avatar: The Way of Water”
DESCRIPTION:Dive into the breathtaking world of Pandora with Avatar: The Way of Water! \nJoin us for an unforgettable movie night featuring stunning visuals and an epic story that explores the bond between family\, nature\, and survival.
URL:https://northbattlefordlibrary.com/event/movie-night-avatar-the-way-of-water/
LOCATION:North Battleford Library\, 1392 101st Street\, North Battleford\, Saskatchewan\, S9A 1A2\, Canada
END:VEVENT
BEGIN:VEVENT
DTSTART;TZID=America/Regina:20250115T190000
DTEND;TZID=America/Regina:20250115T200000
DTSTAMP:20260423T063611
CREATED:20241227T181333Z
LAST-MODIFIED:20241227T181421Z
UID:5575-1736967600-1736971200@northbattlefordlibrary.com
SUMMARY:Book Club for Parents “Hunt\, Gather\, Parent”
DESCRIPTION:Are you struggling with parenting challenges like power struggles\, tantrums\, defiance? \nJoin the Hunt\, Gather\, Parent Book Club\, inspired by Michaeleen Doucleff’s New York Times bestseller\, Hunt\, Gather\, Parent: What Ancient Cultures Can Teach Us About the Lost Art of Raising Happy\, Helpful Little Humans. \nIn this supportive and insightful group\, you’ll: \n\nLearn techniques to avoid tantrums.\nDiscover ways to dissolve power struggles.\nShare your successes and fails.\nTroubleshoot common parenting challenges with a group of like-minded parents.\n\n🗓️ Dates: January 8th\, 15th\, 22nd\, and 29th\n⏰ Time: 7:00 PM\n📍 Location: North Battleford Library \nLet’s explore how ancient wisdom can help modern parents foster happier and more cooperative children. Don’t miss this chance to connect\, learn\, and grow!
URL:https://northbattlefordlibrary.com/event/book-club-for-parents-hunt-gather-parent-2/
LOCATION:North Battleford Library\, 1392 101st Street\, North Battleford\, Saskatchewan\, S9A 1A2\, Canada
END:VEVENT
END:VCALENDAR