BEGIN:VCALENDAR
VERSION:2.0
PRODID:-//North Battleford Public Library - ECPv6.15.20//NONSGML v1.0//EN
CALSCALE:GREGORIAN
METHOD:PUBLISH
X-WR-CALNAME:North Battleford Public Library
X-ORIGINAL-URL:https://northbattlefordlibrary.com
X-WR-CALDESC:Events for North Battleford Public Library
REFRESH-INTERVAL;VALUE=DURATION:PT1H
X-Robots-Tag:noindex
X-PUBLISHED-TTL:PT1H
BEGIN:VTIMEZONE
TZID:America/Regina
BEGIN:STANDARD
TZOFFSETFROM:-0600
TZOFFSETTO:-0600
TZNAME:CST
DTSTART:20180101T000000
END:STANDARD
END:VTIMEZONE
BEGIN:VEVENT
DTSTART;TZID=America/Regina:20191025T103000
DTEND;TZID=America/Regina:20191025T180000
DTSTAMP:20260420T040458
CREATED:20191002T173409Z
LAST-MODIFIED:20191002T173409Z
UID:437-1571999400-1572026400@northbattlefordlibrary.com
SUMMARY:BOOK SALE
DESCRIPTION:We’re having our annual autumn book sale in the lobby of the library! Find new and old treasures! Do your Christmas shopping! All proceeds go towards the library. Thursday to Saturday\, October 24th-26th\, 10:30am-6:00pm.
URL:https://northbattlefordlibrary.com/event/book-sale-2/
LOCATION:North Battleford Library\, 1392 101st Street\, North Battleford\, Saskatchewan\, S9A 1A2\, Canada
ATTACH;FMTTYPE=image/jpeg:https://northbattlefordlibrary.com/wp-content/uploads/2019/10/Book-Sale-Oct2019.jpg
END:VEVENT
BEGIN:VEVENT
DTSTART;TZID=America/Regina:20191024T103000
DTEND;TZID=America/Regina:20191024T180000
DTSTAMP:20260420T040458
CREATED:20191002T173317Z
LAST-MODIFIED:20191002T173317Z
UID:434-1571913000-1571940000@northbattlefordlibrary.com
SUMMARY:BOOK SALE
DESCRIPTION:We’re having our annual autumn book sale in the lobby of the library! Find new and old treasures! Do your Christmas shopping! All proceeds go towards the library. Thursday to Saturday\, October 24th-26th\, 10:30am-6:00pm.
URL:https://northbattlefordlibrary.com/event/book-sale/
LOCATION:North Battleford Library\, 1392 101st Street\, North Battleford\, Saskatchewan\, S9A 1A2\, Canada
ATTACH;FMTTYPE=image/jpeg:https://northbattlefordlibrary.com/wp-content/uploads/2019/10/Book-Sale-Oct2019.jpg
END:VEVENT
BEGIN:VEVENT
DTSTART;VALUE=DATE:20191014
DTEND;VALUE=DATE:20191015
DTSTAMP:20260420T040458
CREATED:20190916T175132Z
LAST-MODIFIED:20190916T175132Z
UID:411-1571011200-1571097599@northbattlefordlibrary.com
SUMMARY:LIBRARY CLOSED
DESCRIPTION:Library closed for Thanksgiving.
URL:https://northbattlefordlibrary.com/event/library-closed-2/
LOCATION:North Battleford Library\, 1392 101st Street\, North Battleford\, Saskatchewan\, S9A 1A2\, Canada
ATTACH;FMTTYPE=image/png:https://northbattlefordlibrary.com/wp-content/uploads/2019/09/Closed-for-Thanksgiving-2019.png
END:VEVENT
BEGIN:VEVENT
DTSTART;VALUE=DATE:20191013
DTEND;VALUE=DATE:20191014
DTSTAMP:20260420T040458
CREATED:20190916T173914Z
LAST-MODIFIED:20190916T173914Z
UID:409-1570924800-1571011199@northbattlefordlibrary.com
SUMMARY:LIBRARY CLOSED
DESCRIPTION:Library closed.
URL:https://northbattlefordlibrary.com/event/library-closed/
LOCATION:North Battleford Library\, 1392 101st Street\, North Battleford\, Saskatchewan\, S9A 1A2\, Canada
END:VEVENT
BEGIN:VEVENT
DTSTART;TZID=America/Regina:20191005T140000
DTEND;TZID=America/Regina:20191005T150000
DTSTAMP:20260420T040458
CREATED:20190916T173840Z
LAST-MODIFIED:20190916T173840Z
UID:406-1570284000-1570287600@northbattlefordlibrary.com
SUMMARY:Poetry Club
DESCRIPTION:We’re starting a poetry club at the library! Come and share your poems with fellow writers. We will work together to create a safe space for all writers to feel welcome to share\, with positive feedback. Begins at 2pm. Ages 13+
URL:https://northbattlefordlibrary.com/event/poetry-club/
LOCATION:North Battleford Library\, 1392 101st Street\, North Battleford\, Saskatchewan\, S9A 1A2\, Canada
ATTACH;FMTTYPE=image/jpeg:https://northbattlefordlibrary.com/wp-content/uploads/2019/09/PoetryClub2019-e1568655511136.jpg
END:VEVENT
BEGIN:VEVENT
DTSTART;TZID=America/Regina:20191001T183000
DTEND;TZID=America/Regina:20191001T193000
DTSTAMP:20260420T040458
CREATED:20190911T171134Z
LAST-MODIFIED:20190911T171134Z
UID:301-1569954600-1569958200@northbattlefordlibrary.com
SUMMARY:Trivia Tuesday
DESCRIPTION:Come to the library for a fun night of trivia! Teams of 2-4 must register beforehand. Begins 6:30pm.
URL:https://northbattlefordlibrary.com/event/trivia-tuesday/
LOCATION:North Battleford Library\, 1392 101st Street\, North Battleford\, Saskatchewan\, S9A 1A2\, Canada
ATTACH;FMTTYPE=image/jpeg:https://northbattlefordlibrary.com/wp-content/uploads/2019/09/Trivia-Tuesday-Oct19-e1568221874917.jpg
END:VEVENT
BEGIN:VEVENT
DTSTART;TZID=America/Regina:20190917T183000
DTEND;TZID=America/Regina:20190917T193000
DTSTAMP:20260420T040458
CREATED:20190911T173207Z
LAST-MODIFIED:20190911T173207Z
UID:309-1568745000-1568748600@northbattlefordlibrary.com
SUMMARY:Origami Night
DESCRIPTION:September’s Origami Night is going to be a bit different! We’re going to be making mini photo albums! Registration is required as spots are limited. Register by calling 306-445-3206. Ages 13+
URL:https://northbattlefordlibrary.com/event/origami-night/
LOCATION:North Battleford Library\, 1392 101st Street\, North Battleford\, Saskatchewan\, S9A 1A2\, Canada
ATTACH;FMTTYPE=image/jpeg:https://northbattlefordlibrary.com/wp-content/uploads/2019/09/OrigamiPhotoAlbumCraftSept19.jpg
END:VEVENT
END:VCALENDAR