BEGIN:VCALENDAR
VERSION:2.0
PRODID:-//North Battleford Public Library - ECPv6.15.20//NONSGML v1.0//EN
CALSCALE:GREGORIAN
METHOD:PUBLISH
X-ORIGINAL-URL:https://northbattlefordlibrary.com
X-WR-CALDESC:Events for North Battleford Public Library
REFRESH-INTERVAL;VALUE=DURATION:PT1H
X-Robots-Tag:noindex
X-PUBLISHED-TTL:PT1H
BEGIN:VTIMEZONE
TZID:America/Regina
BEGIN:STANDARD
TZOFFSETFROM:-0600
TZOFFSETTO:-0600
TZNAME:CST
DTSTART:20250101T000000
END:STANDARD
END:VTIMEZONE
BEGIN:VEVENT
DTSTART;TZID=America/Regina:20260302T100000
DTEND;TZID=America/Regina:20260302T160000
DTSTAMP:20260424T052111
CREATED:20260408T004044Z
LAST-MODIFIED:20260408T004044Z
UID:6897-1772445600-1772467200@northbattlefordlibrary.com
SUMMARY:Rapid Access Counseling
DESCRIPTION:
URL:https://northbattlefordlibrary.com/event/rapid-access-counseling-14/
LOCATION:North Battleford Library\, 1392 101st Street\, North Battleford\, Saskatchewan\, S9A 1A2\, Canada
CATEGORIES:Adult
END:VEVENT
BEGIN:VEVENT
DTSTART;TZID=America/Regina:20260303T183000
DTEND;TZID=America/Regina:20260303T200000
DTSTAMP:20260424T052111
CREATED:20260408T004350Z
LAST-MODIFIED:20260408T004350Z
UID:6903-1772562600-1772568000@northbattlefordlibrary.com
SUMMARY:Mental Health Book Club
DESCRIPTION:
URL:https://northbattlefordlibrary.com/event/mental-health-book-club-4/
LOCATION:North Battleford Library\, 1392 101st Street\, North Battleford\, Saskatchewan\, S9A 1A2\, Canada
CATEGORIES:Mental Health Club
END:VEVENT
BEGIN:VEVENT
DTSTART;TZID=America/Regina:20260303T183000
DTEND;TZID=America/Regina:20260303T200000
DTSTAMP:20260424T052111
CREATED:20260408T004643Z
LAST-MODIFIED:20260408T004643Z
UID:6906-1772562600-1772568000@northbattlefordlibrary.com
SUMMARY:Healing After Harm (Women)
DESCRIPTION:
URL:https://northbattlefordlibrary.com/event/healing-after-harm-women-5/
LOCATION:North Battleford Library\, 1392 101st Street\, North Battleford\, Saskatchewan\, S9A 1A2\, Canada
CATEGORIES:Women
END:VEVENT
BEGIN:VEVENT
DTSTART;TZID=America/Regina:20260304T110000
DTEND;TZID=America/Regina:20260304T120000
DTSTAMP:20260424T052111
CREATED:20260408T005343Z
LAST-MODIFIED:20260408T005343Z
UID:6916-1772622000-1772625600@northbattlefordlibrary.com
SUMMARY:Toddler Story Time
DESCRIPTION:
URL:https://northbattlefordlibrary.com/event/toddler-story-time-13/
LOCATION:North Battleford Library\, 1392 101st Street\, North Battleford\, Saskatchewan\, S9A 1A2\, Canada
CATEGORIES:Craft,family,Kids
END:VEVENT
BEGIN:VEVENT
DTSTART;TZID=America/Regina:20260304T133000
DTEND;TZID=America/Regina:20260304T143000
DTSTAMP:20260424T052111
CREATED:20260408T005929Z
LAST-MODIFIED:20260408T005929Z
UID:6924-1772631000-1772634600@northbattlefordlibrary.com
SUMMARY:Adult Matinee - "Rabbit Proof Fence"
DESCRIPTION:
URL:https://northbattlefordlibrary.com/event/adult-matinee-rabbit-proof-fence/
LOCATION:North Battleford Library\, 1392 101st Street\, North Battleford\, Saskatchewan\, S9A 1A2\, Canada
CATEGORIES:Adult,Senior
END:VEVENT
BEGIN:VEVENT
DTSTART;TZID=America/Regina:20260304T183000
DTEND;TZID=America/Regina:20260304T200000
DTSTAMP:20260424T052111
CREATED:20260408T010527Z
LAST-MODIFIED:20260408T010527Z
UID:6929-1772649000-1772654400@northbattlefordlibrary.com
SUMMARY:Healing After Harm (Men)
DESCRIPTION:
URL:https://northbattlefordlibrary.com/event/healing-after-harm-men-4/
LOCATION:North Battleford Library\, 1392 101st Street\, North Battleford\, Saskatchewan\, S9A 1A2\, Canada
CATEGORIES:Men
END:VEVENT
BEGIN:VEVENT
DTSTART;TZID=America/Regina:20260305T180000
DTEND;TZID=America/Regina:20260305T200000
DTSTAMP:20260424T052111
CREATED:20260408T010854Z
LAST-MODIFIED:20260408T010854Z
UID:6934-1772733600-1772740800@northbattlefordlibrary.com
SUMMARY:Dungeons & Dragons
DESCRIPTION:
URL:https://northbattlefordlibrary.com/event/dungeons-dragons-56/
LOCATION:North Battleford Library\, 1392 101st Street\, North Battleford\, Saskatchewan\, S9A 1A2\, Canada
CATEGORIES:Adult
END:VEVENT
BEGIN:VEVENT
DTSTART;TZID=America/Regina:20260307T110000
DTEND;TZID=America/Regina:20260307T120000
DTSTAMP:20260424T052111
CREATED:20260408T011733Z
LAST-MODIFIED:20260408T011733Z
UID:6947-1772881200-1772884800@northbattlefordlibrary.com
SUMMARY:Story Time & Craft
DESCRIPTION:
URL:https://northbattlefordlibrary.com/event/story-time-craft-5/
LOCATION:North Battleford Library\, 1392 101st Street\, North Battleford\, Saskatchewan\, S9A 1A2\, Canada
CATEGORIES:Craft,family,Kids,Story time
END:VEVENT
BEGIN:VEVENT
DTSTART;TZID=America/Regina:20260307T150000
DTEND;TZID=America/Regina:20260307T163000
DTSTAMP:20260424T052111
CREATED:20260408T012314Z
LAST-MODIFIED:20260408T012314Z
UID:6957-1772895600-1772901000@northbattlefordlibrary.com
SUMMARY:Family Movie - "Dennis the Menace"
DESCRIPTION:
URL:https://northbattlefordlibrary.com/event/family-movie-dennis-the-menace/
LOCATION:North Battleford Library\, 1392 101st Street\, North Battleford\, Saskatchewan\, S9A 1A2\, Canada
CATEGORIES:family,Kids,teens
END:VEVENT
BEGIN:VEVENT
DTSTART;TZID=America/Regina:20260310T183000
DTEND;TZID=America/Regina:20260310T200000
DTSTAMP:20260424T052111
CREATED:20260408T004730Z
LAST-MODIFIED:20260408T004730Z
UID:6908-1773167400-1773172800@northbattlefordlibrary.com
SUMMARY:Healing After Harm (Women)
DESCRIPTION:
URL:https://northbattlefordlibrary.com/event/healing-after-harm-women-6/
LOCATION:North Battleford Library\, 1392 101st Street\, North Battleford\, Saskatchewan\, S9A 1A2\, Canada
CATEGORIES:Women
END:VEVENT
BEGIN:VEVENT
DTSTART;TZID=America/Regina:20260311T110000
DTEND;TZID=America/Regina:20260311T120000
DTSTAMP:20260424T052111
CREATED:20260408T005430Z
LAST-MODIFIED:20260408T005430Z
UID:6918-1773226800-1773230400@northbattlefordlibrary.com
SUMMARY:Toddler Story Time
DESCRIPTION:
URL:https://northbattlefordlibrary.com/event/toddler-story-time-14/
LOCATION:North Battleford Library\, 1392 101st Street\, North Battleford\, Saskatchewan\, S9A 1A2\, Canada
CATEGORIES:Craft,family,Kids
END:VEVENT
BEGIN:VEVENT
DTSTART;TZID=America/Regina:20260312T180000
DTEND;TZID=America/Regina:20260312T200000
DTSTAMP:20260424T052111
CREATED:20260408T010935Z
LAST-MODIFIED:20260408T010935Z
UID:6936-1773338400-1773345600@northbattlefordlibrary.com
SUMMARY:Dungeons & Dragons
DESCRIPTION:
URL:https://northbattlefordlibrary.com/event/dungeons-dragons-57/
LOCATION:North Battleford Library\, 1392 101st Street\, North Battleford\, Saskatchewan\, S9A 1A2\, Canada
CATEGORIES:Adult
END:VEVENT
BEGIN:VEVENT
DTSTART;TZID=America/Regina:20260314T110000
DTEND;TZID=America/Regina:20260314T120000
DTSTAMP:20260424T052111
CREATED:20260408T011813Z
LAST-MODIFIED:20260408T011813Z
UID:6949-1773486000-1773489600@northbattlefordlibrary.com
SUMMARY:Story Time & Craft
DESCRIPTION:
URL:https://northbattlefordlibrary.com/event/story-time-craft-6/
LOCATION:North Battleford Library\, 1392 101st Street\, North Battleford\, Saskatchewan\, S9A 1A2\, Canada
CATEGORIES:Craft,family,Kids,Story time
END:VEVENT
BEGIN:VEVENT
DTSTART;TZID=America/Regina:20260314T150000
DTEND;TZID=America/Regina:20260314T163000
DTSTAMP:20260424T052111
CREATED:20260408T012400Z
LAST-MODIFIED:20260408T012400Z
UID:6959-1773500400-1773505800@northbattlefordlibrary.com
SUMMARY:Family Movie - "Flow"
DESCRIPTION:
URL:https://northbattlefordlibrary.com/event/family-movie-flow/
LOCATION:North Battleford Library\, 1392 101st Street\, North Battleford\, Saskatchewan\, S9A 1A2\, Canada
CATEGORIES:family,Kids,teens
END:VEVENT
BEGIN:VEVENT
DTSTART;TZID=America/Regina:20260316T100000
DTEND;TZID=America/Regina:20260316T160000
DTSTAMP:20260424T052111
CREATED:20260408T004125Z
LAST-MODIFIED:20260408T004125Z
UID:6899-1773655200-1773676800@northbattlefordlibrary.com
SUMMARY:Rapid Access Counseling
DESCRIPTION:
URL:https://northbattlefordlibrary.com/event/rapid-access-counseling-15/
LOCATION:North Battleford Library\, 1392 101st Street\, North Battleford\, Saskatchewan\, S9A 1A2\, Canada
CATEGORIES:Adult
END:VEVENT
BEGIN:VEVENT
DTSTART;TZID=America/Regina:20260317T183000
DTEND;TZID=America/Regina:20260317T200000
DTSTAMP:20260424T052111
CREATED:20260408T004820Z
LAST-MODIFIED:20260408T004820Z
UID:6910-1773772200-1773777600@northbattlefordlibrary.com
SUMMARY:Healing After Harm (Women)
DESCRIPTION:
URL:https://northbattlefordlibrary.com/event/healing-after-harm-women-7/
LOCATION:North Battleford Library\, 1392 101st Street\, North Battleford\, Saskatchewan\, S9A 1A2\, Canada
CATEGORIES:Women
END:VEVENT
BEGIN:VEVENT
DTSTART;TZID=America/Regina:20260318T110000
DTEND;TZID=America/Regina:20260318T120000
DTSTAMP:20260424T052111
CREATED:20260408T005512Z
LAST-MODIFIED:20260408T005512Z
UID:6920-1773831600-1773835200@northbattlefordlibrary.com
SUMMARY:Toddler Story Time
DESCRIPTION:
URL:https://northbattlefordlibrary.com/event/toddler-story-time-15/
LOCATION:North Battleford Library\, 1392 101st Street\, North Battleford\, Saskatchewan\, S9A 1A2\, Canada
CATEGORIES:Craft,family,Kids
END:VEVENT
BEGIN:VEVENT
DTSTART;TZID=America/Regina:20260318T183000
DTEND;TZID=America/Regina:20260318T200000
DTSTAMP:20260424T052111
CREATED:20260408T010620Z
LAST-MODIFIED:20260408T010620Z
UID:6932-1773858600-1773864000@northbattlefordlibrary.com
SUMMARY:Healing After Harm (Men)
DESCRIPTION:
URL:https://northbattlefordlibrary.com/event/healing-after-harm-men-5/
LOCATION:North Battleford Library\, 1392 101st Street\, North Battleford\, Saskatchewan\, S9A 1A2\, Canada
CATEGORIES:Men
END:VEVENT
BEGIN:VEVENT
DTSTART;TZID=America/Regina:20260319T100000
DTEND;TZID=America/Regina:20260319T150000
DTSTAMP:20260424T052111
CREATED:20260408T011349Z
LAST-MODIFIED:20260408T011349Z
UID:6942-1773914400-1773932400@northbattlefordlibrary.com
SUMMARY:Free Income Tax Clinic
DESCRIPTION:Foundations Learning offers free\, year-round income tax support for low income individuals and families in Saskatchewan. \nThis is a drop-in clinic. \nTo find out more\, please call 306-652-5448\nor email incometax@FoundationsLearning.com
URL:https://northbattlefordlibrary.com/event/free-income-tax-clinic-2/
LOCATION:North Battleford Library\, 1392 101st Street\, North Battleford\, Saskatchewan\, S9A 1A2\, Canada
CATEGORIES:Adult
END:VEVENT
BEGIN:VEVENT
DTSTART;TZID=America/Regina:20260319T180000
DTEND;TZID=America/Regina:20260319T200000
DTSTAMP:20260424T052111
CREATED:20260408T011015Z
LAST-MODIFIED:20260408T011015Z
UID:6938-1773943200-1773950400@northbattlefordlibrary.com
SUMMARY:Dungeons & Dragons
DESCRIPTION:
URL:https://northbattlefordlibrary.com/event/dungeons-dragons-58/
LOCATION:North Battleford Library\, 1392 101st Street\, North Battleford\, Saskatchewan\, S9A 1A2\, Canada
CATEGORIES:Adult
END:VEVENT
BEGIN:VEVENT
DTSTART;TZID=America/Regina:20260321T100000
DTEND;TZID=America/Regina:20260321T150000
DTSTAMP:20260424T052111
CREATED:20260408T012120Z
LAST-MODIFIED:20260408T012120Z
UID:6955-1774087200-1774105200@northbattlefordlibrary.com
SUMMARY:Repair Cafe
DESCRIPTION:
URL:https://northbattlefordlibrary.com/event/repair-cafe-2/
LOCATION:North Battleford Library\, 1392 101st Street\, North Battleford\, Saskatchewan\, S9A 1A2\, Canada
CATEGORIES:Adult,family,Senior
END:VEVENT
BEGIN:VEVENT
DTSTART;TZID=America/Regina:20260321T110000
DTEND;TZID=America/Regina:20260321T120000
DTSTAMP:20260424T052111
CREATED:20260408T011852Z
LAST-MODIFIED:20260408T011852Z
UID:6951-1774090800-1774094400@northbattlefordlibrary.com
SUMMARY:Story Time & Craft
DESCRIPTION:
URL:https://northbattlefordlibrary.com/event/story-time-craft-7/
LOCATION:North Battleford Library\, 1392 101st Street\, North Battleford\, Saskatchewan\, S9A 1A2\, Canada
CATEGORIES:Craft,family,Kids,Story time
END:VEVENT
BEGIN:VEVENT
DTSTART;TZID=America/Regina:20260321T150000
DTEND;TZID=America/Regina:20260321T163000
DTSTAMP:20260424T052111
CREATED:20260408T012454Z
LAST-MODIFIED:20260408T012454Z
UID:6961-1774105200-1774110600@northbattlefordlibrary.com
SUMMARY:Family Movie - "Mouse Hunt"
DESCRIPTION:
URL:https://northbattlefordlibrary.com/event/family-movie-mouse-hunt/
LOCATION:North Battleford Library\, 1392 101st Street\, North Battleford\, Saskatchewan\, S9A 1A2\, Canada
CATEGORIES:family,Kids,teens
END:VEVENT
BEGIN:VEVENT
DTSTART;TZID=America/Regina:20260324T183000
DTEND;TZID=America/Regina:20260324T200000
DTSTAMP:20260424T052111
CREATED:20260408T004908Z
LAST-MODIFIED:20260408T004908Z
UID:6912-1774377000-1774382400@northbattlefordlibrary.com
SUMMARY:Healing After Harm (Women)
DESCRIPTION:
URL:https://northbattlefordlibrary.com/event/healing-after-harm-women-8/
LOCATION:North Battleford Library\, 1392 101st Street\, North Battleford\, Saskatchewan\, S9A 1A2\, Canada
CATEGORIES:Women
END:VEVENT
BEGIN:VEVENT
DTSTART;TZID=America/Regina:20260325T110000
DTEND;TZID=America/Regina:20260325T120000
DTSTAMP:20260424T052111
CREATED:20260408T005609Z
LAST-MODIFIED:20260408T005609Z
UID:6922-1774436400-1774440000@northbattlefordlibrary.com
SUMMARY:Toddler Story Time
DESCRIPTION:
URL:https://northbattlefordlibrary.com/event/toddler-story-time-16/
LOCATION:North Battleford Library\, 1392 101st Street\, North Battleford\, Saskatchewan\, S9A 1A2\, Canada
CATEGORIES:Craft,family,Kids,Story time
END:VEVENT
BEGIN:VEVENT
DTSTART;TZID=America/Regina:20260325T190000
DTEND;TZID=America/Regina:20260325T200000
DTSTAMP:20260424T052111
CREATED:20260408T010131Z
LAST-MODIFIED:20260408T010131Z
UID:6927-1774465200-1774468800@northbattlefordlibrary.com
SUMMARY:Indigenous Book Club
DESCRIPTION:
URL:https://northbattlefordlibrary.com/event/indigenous-book-club-16/
LOCATION:North Battleford Library\, 1392 101st Street\, North Battleford\, Saskatchewan\, S9A 1A2\, Canada
CATEGORIES:Indigenous Book Club
END:VEVENT
BEGIN:VEVENT
DTSTART;TZID=America/Regina:20260326T180000
DTEND;TZID=America/Regina:20260326T200000
DTSTAMP:20260424T052111
CREATED:20260408T011054Z
LAST-MODIFIED:20260408T011054Z
UID:6940-1774548000-1774555200@northbattlefordlibrary.com
SUMMARY:Dungeons & Dragons
DESCRIPTION:
URL:https://northbattlefordlibrary.com/event/dungeons-dragons-59/
LOCATION:North Battleford Library\, 1392 101st Street\, North Battleford\, Saskatchewan\, S9A 1A2\, Canada
CATEGORIES:Adult
END:VEVENT
BEGIN:VEVENT
DTSTART;TZID=America/Regina:20260326T180000
DTEND;TZID=America/Regina:20260326T200000
DTSTAMP:20260424T052111
CREATED:20260408T011522Z
LAST-MODIFIED:20260408T011522Z
UID:6945-1774548000-1774555200@northbattlefordlibrary.com
SUMMARY:Adult Book Club
DESCRIPTION:
URL:https://northbattlefordlibrary.com/event/adult-book-club-31/
LOCATION:North Battleford Library\, 1392 101st Street\, North Battleford\, Saskatchewan\, S9A 1A2\, Canada
CATEGORIES:Adult Book Club
END:VEVENT
BEGIN:VEVENT
DTSTART;TZID=America/Regina:20260328T110000
DTEND;TZID=America/Regina:20260328T120000
DTSTAMP:20260424T052111
CREATED:20260408T011935Z
LAST-MODIFIED:20260408T011935Z
UID:6953-1774695600-1774699200@northbattlefordlibrary.com
SUMMARY:Story Time & Craft
DESCRIPTION:
URL:https://northbattlefordlibrary.com/event/story-time-craft-8/
LOCATION:North Battleford Library\, 1392 101st Street\, North Battleford\, Saskatchewan\, S9A 1A2\, Canada
CATEGORIES:Craft,family,Kids,Story time
END:VEVENT
BEGIN:VEVENT
DTSTART;TZID=America/Regina:20260328T150000
DTEND;TZID=America/Regina:20260328T163000
DTSTAMP:20260424T052111
CREATED:20260408T012557Z
LAST-MODIFIED:20260408T012557Z
UID:6963-1774710000-1774715400@northbattlefordlibrary.com
SUMMARY:Family Movie - "Superpets"
DESCRIPTION:
URL:https://northbattlefordlibrary.com/event/family-movie-superpets/
LOCATION:North Battleford Library\, 1392 101st Street\, North Battleford\, Saskatchewan\, S9A 1A2\, Canada
CATEGORIES:family,Kids,teens
END:VEVENT
END:VCALENDAR